
BEGIN:VCALENDAR
VERSION:2.0
PRODID:-//Browns - ECPv6.15.20//NONSGML v1.0//EN
CALSCALE:GREGORIAN
METHOD:PUBLISH
X-WR-CALNAME:Browns
X-ORIGINAL-URL:https://brownshfs.co.uk
X-WR-CALDESC:Events for Browns
REFRESH-INTERVAL;VALUE=DURATION:PT1H
X-Robots-Tag:noindex
X-PUBLISHED-TTL:PT1H
BEGIN:VTIMEZONE
TZID:Europe/London
BEGIN:DAYLIGHT
TZOFFSETFROM:+0000
TZOFFSETTO:+0100
TZNAME:BST
DTSTART:20240331T010000
END:DAYLIGHT
BEGIN:STANDARD
TZOFFSETFROM:+0100
TZOFFSETTO:+0000
TZNAME:GMT
DTSTART:20241027T010000
END:STANDARD
BEGIN:DAYLIGHT
TZOFFSETFROM:+0000
TZOFFSETTO:+0100
TZNAME:BST
DTSTART:20250330T010000
END:DAYLIGHT
BEGIN:STANDARD
TZOFFSETFROM:+0100
TZOFFSETTO:+0000
TZNAME:GMT
DTSTART:20251026T010000
END:STANDARD
BEGIN:DAYLIGHT
TZOFFSETFROM:+0000
TZOFFSETTO:+0100
TZNAME:BST
DTSTART:20260329T010000
END:DAYLIGHT
BEGIN:STANDARD
TZOFFSETFROM:+0100
TZOFFSETTO:+0000
TZNAME:GMT
DTSTART:20261025T010000
END:STANDARD
END:VTIMEZONE
BEGIN:VEVENT
DTSTART;TZID=Europe/London:20250501T090000
DTEND;TZID=Europe/London:20250501T160000
DTSTAMP:20260420T072542
CREATED:20250417T142317Z
LAST-MODIFIED:20250417T142317Z
UID:4238-1746090000-1746115200@brownshfs.co.uk
SUMMARY:Emergency First Aid at Work (1 day)
DESCRIPTION:
URL:https://brownshfs.co.uk/event/emergency-first-aid-at-work-1-day-6/
CATEGORIES:EFAW,Emergency First Aid at Work (1 day course)
END:VEVENT
BEGIN:VEVENT
DTSTART;TZID=Europe/London:20250507T090000
DTEND;TZID=Europe/London:20250508T163000
DTSTAMP:20260420T072542
CREATED:20250408T140800Z
LAST-MODIFIED:20250408T140800Z
UID:4219-1746608400-1746721800@brownshfs.co.uk
SUMMARY:SPA MPQC Core & Quarry
DESCRIPTION:
URL:https://brownshfs.co.uk/event/spa-mpqc-core-quarry-49/
CATEGORIES:SPA MPQC Core & Quarry
END:VEVENT
BEGIN:VEVENT
DTSTART;TZID=Europe/London:20250508T090000
DTEND;TZID=Europe/London:20250508T163000
DTSTAMP:20260420T072542
CREATED:20250408T140826Z
LAST-MODIFIED:20250408T140826Z
UID:4221-1746694800-1746721800@brownshfs.co.uk
SUMMARY:SPA MPQC Core & Quarry Renewal
DESCRIPTION:
URL:https://brownshfs.co.uk/event/spa-mpqc-core-quarry-renewal-57/
CATEGORIES:SPA MPQC Core & Quarry Renewal
END:VEVENT
BEGIN:VEVENT
DTSTART;TZID=Europe/London:20250514T093000
DTEND;TZID=Europe/London:20250514T130000
DTSTAMP:20260420T072542
CREATED:20250417T143034Z
LAST-MODIFIED:20250417T143034Z
UID:4241-1747215000-1747227600@brownshfs.co.uk
SUMMARY:Fire Marshal
DESCRIPTION:
URL:https://brownshfs.co.uk/event/fire-marshal-21/
CATEGORIES:Fire Marshal
END:VEVENT
BEGIN:VEVENT
DTSTART;TZID=Europe/London:20250521T090000
DTEND;TZID=Europe/London:20250521T163000
DTSTAMP:20260420T072542
CREATED:20250429T133746Z
LAST-MODIFIED:20250429T133746Z
UID:4244-1747818000-1747845000@brownshfs.co.uk
SUMMARY:SPA MPQC Core & Quarry Renewal
DESCRIPTION:
URL:https://brownshfs.co.uk/event/spa-mpqc-core-quarry-renewal-58/
CATEGORIES:SPA MPQC Core & Quarry Renewal
END:VEVENT
BEGIN:VEVENT
DTSTART;TZID=Europe/London:20250521T090000
DTEND;TZID=Europe/London:20250522T163000
DTSTAMP:20260420T072542
CREATED:20250417T134411Z
LAST-MODIFIED:20250417T134411Z
UID:4233-1747818000-1747931400@brownshfs.co.uk
SUMMARY:SPA MPQC Core & Quarry
DESCRIPTION:
URL:https://brownshfs.co.uk/event/spa-mpqc-core-quarry-50/
CATEGORIES:SPA MPQC Core & Quarry
END:VEVENT
END:VCALENDAR