
BEGIN:VCALENDAR
VERSION:2.0
PRODID:-//Browns - ECPv6.15.20//NONSGML v1.0//EN
CALSCALE:GREGORIAN
METHOD:PUBLISH
X-ORIGINAL-URL:https://brownshfs.co.uk
X-WR-CALDESC:Events for Browns
REFRESH-INTERVAL;VALUE=DURATION:PT1H
X-Robots-Tag:noindex
X-PUBLISHED-TTL:PT1H
BEGIN:VTIMEZONE
TZID:Europe/London
BEGIN:DAYLIGHT
TZOFFSETFROM:+0000
TZOFFSETTO:+0100
TZNAME:BST
DTSTART:20230326T010000
END:DAYLIGHT
BEGIN:STANDARD
TZOFFSETFROM:+0100
TZOFFSETTO:+0000
TZNAME:GMT
DTSTART:20231029T010000
END:STANDARD
BEGIN:DAYLIGHT
TZOFFSETFROM:+0000
TZOFFSETTO:+0100
TZNAME:BST
DTSTART:20240331T010000
END:DAYLIGHT
BEGIN:STANDARD
TZOFFSETFROM:+0100
TZOFFSETTO:+0000
TZNAME:GMT
DTSTART:20241027T010000
END:STANDARD
BEGIN:DAYLIGHT
TZOFFSETFROM:+0000
TZOFFSETTO:+0100
TZNAME:BST
DTSTART:20250330T010000
END:DAYLIGHT
BEGIN:STANDARD
TZOFFSETFROM:+0100
TZOFFSETTO:+0000
TZNAME:GMT
DTSTART:20251026T010000
END:STANDARD
END:VTIMEZONE
BEGIN:VEVENT
DTSTART;TZID=Europe/London:20240604T090000
DTEND;TZID=Europe/London:20240604T163000
DTSTAMP:20260421T052918
CREATED:20230927T114232Z
LAST-MODIFIED:20230927T114232Z
UID:3962-1717491600-1717518600@brownshfs.co.uk
SUMMARY:SPA MPQC Core & Quarry Renewal
DESCRIPTION:
URL:https://brownshfs.co.uk/event/spa-mpqc-core-quarry-renewal-45/
CATEGORIES:SPA MPQC Core & Quarry Renewal
END:VEVENT
BEGIN:VEVENT
DTSTART;TZID=Europe/London:20240607T090000
DTEND;TZID=Europe/London:20240607T160000
DTSTAMP:20260421T052918
CREATED:20230818T083422Z
LAST-MODIFIED:20230818T083422Z
UID:3890-1717750800-1717776000@brownshfs.co.uk
SUMMARY:Emergency First Aid at Work (1 day)
DESCRIPTION:
URL:https://brownshfs.co.uk/event/emergency-first-aid-at-work-1-day-30/
CATEGORIES:EFAW,Emergency First Aid at Work (1 day course)
END:VEVENT
BEGIN:VEVENT
DTSTART;TZID=Europe/London:20240611T093000
DTEND;TZID=Europe/London:20240611T123000
DTSTAMP:20260421T052918
CREATED:20240223T085742Z
LAST-MODIFIED:20240223T085742Z
UID:4049-1718098200-1718109000@brownshfs.co.uk
SUMMARY:Manual Handling
DESCRIPTION:
URL:https://brownshfs.co.uk/event/manual-handling-17/
CATEGORIES:Manual Handling
END:VEVENT
BEGIN:VEVENT
DTSTART;TZID=Europe/London:20240618T093000
DTEND;TZID=Europe/London:20240618T130000
DTSTAMP:20260421T052918
CREATED:20240223T085444Z
LAST-MODIFIED:20240223T085444Z
UID:4045-1718703000-1718715600@brownshfs.co.uk
SUMMARY:Fire Marshal
DESCRIPTION:
URL:https://brownshfs.co.uk/event/fire-marshal-23/
CATEGORIES:Fire Marshal
END:VEVENT
BEGIN:VEVENT
DTSTART;TZID=Europe/London:20240619T090000
DTEND;TZID=Europe/London:20240620T163000
DTSTAMP:20260421T052918
CREATED:20230927T111250Z
LAST-MODIFIED:20230927T111250Z
UID:3940-1718787600-1718901000@brownshfs.co.uk
SUMMARY:SPA MPQC Core & Quarry
DESCRIPTION:
URL:https://brownshfs.co.uk/event/spa-mpqc-core-quarry-38/
CATEGORIES:SPA MPQC Core & Quarry
END:VEVENT
BEGIN:VEVENT
DTSTART;TZID=Europe/London:20240620T090000
DTEND;TZID=Europe/London:20240620T163000
DTSTAMP:20260421T052918
CREATED:20240531T144612Z
LAST-MODIFIED:20240531T144612Z
UID:4087-1718874000-1718901000@brownshfs.co.uk
SUMMARY:SPA MPQC Core & Quarry Renewal
DESCRIPTION:
URL:https://brownshfs.co.uk/event/spa-mpqc-core-quarry-renewal-43/
CATEGORIES:SPA MPQC Core & Quarry Renewal
END:VEVENT
BEGIN:VEVENT
DTSTART;TZID=Europe/London:20240624T090000
DTEND;TZID=Europe/London:20240624T160000
DTSTAMP:20260421T052918
CREATED:20230818T083451Z
LAST-MODIFIED:20230818T083451Z
UID:3892-1719219600-1719244800@brownshfs.co.uk
SUMMARY:Emergency First Aid at Work (1 day)
DESCRIPTION:
URL:https://brownshfs.co.uk/event/emergency-first-aid-at-work-1-day-31/
CATEGORIES:EFAW,Emergency First Aid at Work (1 day course)
END:VEVENT
END:VCALENDAR