
BEGIN:VCALENDAR
VERSION:2.0
PRODID:-//Browns - ECPv6.15.20//NONSGML v1.0//EN
CALSCALE:GREGORIAN
METHOD:PUBLISH
X-WR-CALNAME:Browns
X-ORIGINAL-URL:https://brownshfs.co.uk
X-WR-CALDESC:Events for Browns
REFRESH-INTERVAL;VALUE=DURATION:PT1H
X-Robots-Tag:noindex
X-PUBLISHED-TTL:PT1H
BEGIN:VTIMEZONE
TZID:Europe/London
BEGIN:DAYLIGHT
TZOFFSETFROM:+0000
TZOFFSETTO:+0100
TZNAME:BST
DTSTART:20230326T010000
END:DAYLIGHT
BEGIN:STANDARD
TZOFFSETFROM:+0100
TZOFFSETTO:+0000
TZNAME:GMT
DTSTART:20231029T010000
END:STANDARD
BEGIN:DAYLIGHT
TZOFFSETFROM:+0000
TZOFFSETTO:+0100
TZNAME:BST
DTSTART:20240331T010000
END:DAYLIGHT
BEGIN:STANDARD
TZOFFSETFROM:+0100
TZOFFSETTO:+0000
TZNAME:GMT
DTSTART:20241027T010000
END:STANDARD
BEGIN:DAYLIGHT
TZOFFSETFROM:+0000
TZOFFSETTO:+0100
TZNAME:BST
DTSTART:20250330T010000
END:DAYLIGHT
BEGIN:STANDARD
TZOFFSETFROM:+0100
TZOFFSETTO:+0000
TZNAME:GMT
DTSTART:20251026T010000
END:STANDARD
END:VTIMEZONE
BEGIN:VEVENT
DTSTART;TZID=Europe/London:20240305T093000
DTEND;TZID=Europe/London:20240305T123000
DTSTAMP:20260421T140802
CREATED:20240124T134547Z
LAST-MODIFIED:20240124T134547Z
UID:4039-1709631000-1709641800@brownshfs.co.uk
SUMMARY:Manual Handling
DESCRIPTION:
URL:https://brownshfs.co.uk/event/manual-handling-8/
CATEGORIES:Manual Handling
END:VEVENT
BEGIN:VEVENT
DTSTART;TZID=Europe/London:20240306T090000
DTEND;TZID=Europe/London:20240306T163000
DTSTAMP:20260421T140802
CREATED:20230927T113925Z
LAST-MODIFIED:20230927T113925Z
UID:3956-1709715600-1709742600@brownshfs.co.uk
SUMMARY:SPA MPQC Core & Quarry Renewal
DESCRIPTION:
URL:https://brownshfs.co.uk/event/spa-mpqc-core-quarry-renewal-30/
CATEGORIES:SPA MPQC Core & Quarry Renewal
END:VEVENT
BEGIN:VEVENT
DTSTART;TZID=Europe/London:20240308T090000
DTEND;TZID=Europe/London:20240308T160000
DTSTAMP:20260421T140802
CREATED:20230818T083054Z
LAST-MODIFIED:20230818T083054Z
UID:3878-1709888400-1709913600@brownshfs.co.uk
SUMMARY:Emergency First Aid at Work (1 day)
DESCRIPTION:
URL:https://brownshfs.co.uk/event/emergency-first-aid-at-work-1-day-24/
CATEGORIES:EFAW,Emergency First Aid at Work (1 day course)
END:VEVENT
BEGIN:VEVENT
DTSTART;TZID=Europe/London:20240318T090000
DTEND;TZID=Europe/London:20240318T160000
DTSTAMP:20260421T140802
CREATED:20230818T083136Z
LAST-MODIFIED:20230818T083136Z
UID:3880-1710752400-1710777600@brownshfs.co.uk
SUMMARY:Emergency First Aid at Work (1 day)
DESCRIPTION:
URL:https://brownshfs.co.uk/event/emergency-first-aid-at-work-1-day-25/
CATEGORIES:EFAW,Emergency First Aid at Work (1 day course)
END:VEVENT
BEGIN:VEVENT
DTSTART;TZID=Europe/London:20240320T090000
DTEND;TZID=Europe/London:20240321T163000
DTSTAMP:20260421T140802
CREATED:20230927T110959Z
LAST-MODIFIED:20230927T110959Z
UID:3934-1710925200-1711038600@brownshfs.co.uk
SUMMARY:SPA MPQC Core & Quarry
DESCRIPTION:
URL:https://brownshfs.co.uk/event/spa-mpqc-core-quarry-35/
CATEGORIES:SPA MPQC Core & Quarry
END:VEVENT
BEGIN:VEVENT
DTSTART;TZID=Europe/London:20240325T090000
DTEND;TZID=Europe/London:20240327T160000
DTSTAMP:20260421T140802
CREATED:20230818T090838Z
LAST-MODIFIED:20230818T090838Z
UID:3918-1711357200-1711555200@brownshfs.co.uk
SUMMARY:First aid at work (3 day course)
DESCRIPTION:
URL:https://brownshfs.co.uk/event/first-aid-at-work-3-day-course-6/
CATEGORIES:First aid at work (3 day course)
END:VEVENT
END:VCALENDAR