
BEGIN:VCALENDAR
VERSION:2.0
PRODID:-//Browns - ECPv6.15.20//NONSGML v1.0//EN
CALSCALE:GREGORIAN
METHOD:PUBLISH
X-ORIGINAL-URL:https://brownshfs.co.uk
X-WR-CALDESC:Events for Browns
REFRESH-INTERVAL;VALUE=DURATION:PT1H
X-Robots-Tag:noindex
X-PUBLISHED-TTL:PT1H
BEGIN:VTIMEZONE
TZID:Europe/London
BEGIN:DAYLIGHT
TZOFFSETFROM:+0000
TZOFFSETTO:+0100
TZNAME:BST
DTSTART:20230326T010000
END:DAYLIGHT
BEGIN:STANDARD
TZOFFSETFROM:+0100
TZOFFSETTO:+0000
TZNAME:GMT
DTSTART:20231029T010000
END:STANDARD
BEGIN:DAYLIGHT
TZOFFSETFROM:+0000
TZOFFSETTO:+0100
TZNAME:BST
DTSTART:20240331T010000
END:DAYLIGHT
BEGIN:STANDARD
TZOFFSETFROM:+0100
TZOFFSETTO:+0000
TZNAME:GMT
DTSTART:20241027T010000
END:STANDARD
BEGIN:DAYLIGHT
TZOFFSETFROM:+0000
TZOFFSETTO:+0100
TZNAME:BST
DTSTART:20250330T010000
END:DAYLIGHT
BEGIN:STANDARD
TZOFFSETFROM:+0100
TZOFFSETTO:+0000
TZNAME:GMT
DTSTART:20251026T010000
END:STANDARD
END:VTIMEZONE
BEGIN:VEVENT
DTSTART;TZID=Europe/London:20240208T090000
DTEND;TZID=Europe/London:20240208T163000
DTSTAMP:20260421T140859
CREATED:20230927T113817Z
LAST-MODIFIED:20230927T113817Z
UID:3954-1707382800-1707409800@brownshfs.co.uk
SUMMARY:SPA MPQC Core & Quarry Renewal
DESCRIPTION:
URL:https://brownshfs.co.uk/event/spa-mpqc-core-quarry-renewal-27/
CATEGORIES:SPA MPQC Core & Quarry Renewal
END:VEVENT
BEGIN:VEVENT
DTSTART;TZID=Europe/London:20240209T090000
DTEND;TZID=Europe/London:20240209T160000
DTSTAMP:20260421T140859
CREATED:20230818T082949Z
LAST-MODIFIED:20230818T082949Z
UID:3874-1707469200-1707494400@brownshfs.co.uk
SUMMARY:Emergency First Aid at Work (1 day)
DESCRIPTION:
URL:https://brownshfs.co.uk/event/emergency-first-aid-at-work-1-day-22/
CATEGORIES:EFAW,Emergency First Aid at Work (1 day course)
END:VEVENT
BEGIN:VEVENT
DTSTART;TZID=Europe/London:20240219T090000
DTEND;TZID=Europe/London:20240219T160000
DTSTAMP:20260421T140859
CREATED:20230818T083021Z
LAST-MODIFIED:20230818T083021Z
UID:3876-1708333200-1708358400@brownshfs.co.uk
SUMMARY:Emergency First Aid at Work (1 day)
DESCRIPTION:
URL:https://brownshfs.co.uk/event/emergency-first-aid-at-work-1-day-23/
CATEGORIES:EFAW,Emergency First Aid at Work (1 day course)
END:VEVENT
BEGIN:VEVENT
DTSTART;TZID=Europe/London:20240220T090000
DTEND;TZID=Europe/London:20240221T163000
DTSTAMP:20260421T140859
CREATED:20230927T110526Z
LAST-MODIFIED:20230927T110653Z
UID:3930-1708419600-1708533000@brownshfs.co.uk
SUMMARY:SPA MPQC Core & Quarry
DESCRIPTION:
URL:https://brownshfs.co.uk/event/spa-mpqc-core-quarry-33/
CATEGORIES:SPA MPQC Core & Quarry
END:VEVENT
BEGIN:VEVENT
DTSTART;VALUE=DATE:20240226
DTEND;VALUE=DATE:20240228
DTSTAMP:20260421T140859
CREATED:20231212T104536Z
LAST-MODIFIED:20231212T104536Z
UID:4018-1708905600-1709078399@brownshfs.co.uk
SUMMARY:FAW 2 Day requalification
DESCRIPTION:
URL:https://brownshfs.co.uk/event/faw-2-day-requalification/
END:VEVENT
BEGIN:VEVENT
DTSTART;VALUE=DATE:20240226
DTEND;VALUE=DATE:20240228
DTSTAMP:20260421T140859
CREATED:20231212T104811Z
LAST-MODIFIED:20231212T104811Z
UID:4020-1708905600-1709078399@brownshfs.co.uk
SUMMARY:First Aid at Work Requalification
DESCRIPTION:
URL:https://brownshfs.co.uk/event/first-aid-at-work-requalification/
END:VEVENT
BEGIN:VEVENT
DTSTART;VALUE=DATE:20240226
DTEND;VALUE=DATE:20240228
DTSTAMP:20260421T140859
CREATED:20231212T112752Z
LAST-MODIFIED:20231212T112752Z
UID:4022-1708905600-1709078399@brownshfs.co.uk
SUMMARY:First Aid at Work Renewal
DESCRIPTION:
URL:https://brownshfs.co.uk/event/first-aid-at-work-renewal-4/
CATEGORIES:First Aid at Work Renewal
END:VEVENT
END:VCALENDAR