
BEGIN:VCALENDAR
VERSION:2.0
PRODID:-//Browns - ECPv6.15.20//NONSGML v1.0//EN
CALSCALE:GREGORIAN
METHOD:PUBLISH
X-WR-CALNAME:Browns
X-ORIGINAL-URL:https://brownshfs.co.uk
X-WR-CALDESC:Events for Browns
REFRESH-INTERVAL;VALUE=DURATION:PT1H
X-Robots-Tag:noindex
X-PUBLISHED-TTL:PT1H
BEGIN:VTIMEZONE
TZID:Europe/London
BEGIN:DAYLIGHT
TZOFFSETFROM:+0000
TZOFFSETTO:+0100
TZNAME:BST
DTSTART:20220327T010000
END:DAYLIGHT
BEGIN:STANDARD
TZOFFSETFROM:+0100
TZOFFSETTO:+0000
TZNAME:GMT
DTSTART:20221030T010000
END:STANDARD
BEGIN:DAYLIGHT
TZOFFSETFROM:+0000
TZOFFSETTO:+0100
TZNAME:BST
DTSTART:20230326T010000
END:DAYLIGHT
BEGIN:STANDARD
TZOFFSETFROM:+0100
TZOFFSETTO:+0000
TZNAME:GMT
DTSTART:20231029T010000
END:STANDARD
BEGIN:DAYLIGHT
TZOFFSETFROM:+0000
TZOFFSETTO:+0100
TZNAME:BST
DTSTART:20240331T010000
END:DAYLIGHT
BEGIN:STANDARD
TZOFFSETFROM:+0100
TZOFFSETTO:+0000
TZNAME:GMT
DTSTART:20241027T010000
END:STANDARD
END:VTIMEZONE
BEGIN:VEVENT
DTSTART;TZID=Europe/London:20230905T093000
DTEND;TZID=Europe/London:20230905T123000
DTSTAMP:20260422T032040
CREATED:20230531T145738Z
LAST-MODIFIED:20230531T145738Z
UID:3795-1693906200-1693917000@brownshfs.co.uk
SUMMARY:Manual Handling
DESCRIPTION:
URL:https://brownshfs.co.uk/event/manual-handling-9/
CATEGORIES:Manual Handling
END:VEVENT
BEGIN:VEVENT
DTSTART;TZID=Europe/London:20230906T090000
DTEND;TZID=Europe/London:20230907T163000
DTSTAMP:20260422T032040
CREATED:20221011T124359Z
LAST-MODIFIED:20221213T105126Z
UID:3097-1693990800-1694104200@brownshfs.co.uk
SUMMARY:SPA MPQC Core & Quarry
DESCRIPTION:
URL:https://brownshfs.co.uk/event/spa-mpqc-core-quarry-30/
CATEGORIES:SPA MPQC Core & Quarry
END:VEVENT
BEGIN:VEVENT
DTSTART;TZID=Europe/London:20230914T090000
DTEND;TZID=Europe/London:20230914T163000
DTSTAMP:20260422T032040
CREATED:20221011T122529Z
LAST-MODIFIED:20221011T122529Z
UID:3060-1694682000-1694709000@brownshfs.co.uk
SUMMARY:SPA MPQC Core & Quarry Renewal
DESCRIPTION:
URL:https://brownshfs.co.uk/event/spa-mpqc-core-quarry-renewal-38/
CATEGORIES:SPA MPQC Core & Quarry Renewal
END:VEVENT
BEGIN:VEVENT
DTSTART;TZID=Europe/London:20230918T090000
DTEND;TZID=Europe/London:20230918T160000
DTSTAMP:20260422T032040
CREATED:20221031T115238Z
LAST-MODIFIED:20221031T115238Z
UID:3157-1695027600-1695052800@brownshfs.co.uk
SUMMARY:Emergency First Aid at Work (1 day)
DESCRIPTION:
URL:https://brownshfs.co.uk/event/emergency-first-aid-at-work-1-day-10/
CATEGORIES:EFAW,Emergency First Aid at Work (1 day course)
END:VEVENT
BEGIN:VEVENT
DTSTART;TZID=Europe/London:20230919T093000
DTEND;TZID=Europe/London:20230919T123000
DTSTAMP:20260422T032040
CREATED:20230531T150034Z
LAST-MODIFIED:20230531T150034Z
UID:3801-1695115800-1695126600@brownshfs.co.uk
SUMMARY:Fire Marshal
DESCRIPTION:
URL:https://brownshfs.co.uk/event/fire-marshal-17/
CATEGORIES:Fire Marshal
END:VEVENT
BEGIN:VEVENT
DTSTART;TZID=Europe/London:20230925T090000
DTEND;TZID=Europe/London:20230927T160000
DTSTAMP:20260422T032040
CREATED:20221031T120224Z
LAST-MODIFIED:20221031T120224Z
UID:3165-1695632400-1695830400@brownshfs.co.uk
SUMMARY:First aid at work (3 day course)
DESCRIPTION:
URL:https://brownshfs.co.uk/event/first-aid-at-work-3-day-course-10/
CATEGORIES:First aid at work (3 day course)
END:VEVENT
END:VCALENDAR