
BEGIN:VCALENDAR
VERSION:2.0
PRODID:-//Browns - ECPv6.15.20//NONSGML v1.0//EN
CALSCALE:GREGORIAN
METHOD:PUBLISH
X-WR-CALNAME:Browns
X-ORIGINAL-URL:https://brownshfs.co.uk
X-WR-CALDESC:Events for Browns
REFRESH-INTERVAL;VALUE=DURATION:PT1H
X-Robots-Tag:noindex
X-PUBLISHED-TTL:PT1H
BEGIN:VTIMEZONE
TZID:Europe/London
BEGIN:DAYLIGHT
TZOFFSETFROM:+0000
TZOFFSETTO:+0100
TZNAME:BST
DTSTART:20220327T010000
END:DAYLIGHT
BEGIN:STANDARD
TZOFFSETFROM:+0100
TZOFFSETTO:+0000
TZNAME:GMT
DTSTART:20221030T010000
END:STANDARD
BEGIN:DAYLIGHT
TZOFFSETFROM:+0000
TZOFFSETTO:+0100
TZNAME:BST
DTSTART:20230326T010000
END:DAYLIGHT
BEGIN:STANDARD
TZOFFSETFROM:+0100
TZOFFSETTO:+0000
TZNAME:GMT
DTSTART:20231029T010000
END:STANDARD
BEGIN:DAYLIGHT
TZOFFSETFROM:+0000
TZOFFSETTO:+0100
TZNAME:BST
DTSTART:20240331T010000
END:DAYLIGHT
BEGIN:STANDARD
TZOFFSETFROM:+0100
TZOFFSETTO:+0000
TZNAME:GMT
DTSTART:20241027T010000
END:STANDARD
END:VTIMEZONE
BEGIN:VEVENT
DTSTART;TZID=Europe/London:20230803T090000
DTEND;TZID=Europe/London:20230803T163000
DTSTAMP:20260422T051315
CREATED:20221011T122350Z
LAST-MODIFIED:20221011T122350Z
UID:3062-1691053200-1691080200@brownshfs.co.uk
SUMMARY:SPA MPQC Core & Quarry Renewal
DESCRIPTION:
URL:https://brownshfs.co.uk/event/spa-mpqc-core-quarry-renewal-36/
CATEGORIES:SPA MPQC Core & Quarry Renewal
END:VEVENT
BEGIN:VEVENT
DTSTART;TZID=Europe/London:20230804T090000
DTEND;TZID=Europe/London:20230804T160000
DTSTAMP:20260422T051315
CREATED:20230207T124045Z
LAST-MODIFIED:20230207T124045Z
UID:3756-1691139600-1691164800@brownshfs.co.uk
SUMMARY:Emergency First Aid at Work (1 day)
DESCRIPTION:
URL:https://brownshfs.co.uk/event/emergency-first-aid-at-work-1-day-17/
CATEGORIES:EFAW,Emergency First Aid at Work (1 day course)
END:VEVENT
BEGIN:VEVENT
DTSTART;TZID=Europe/London:20230808T093000
DTEND;TZID=Europe/London:20230808T123000
DTSTAMP:20260422T051315
CREATED:20230224T121034Z
LAST-MODIFIED:20230224T121034Z
UID:3784-1691487000-1691497800@brownshfs.co.uk
SUMMARY:Manual Handling
DESCRIPTION:
URL:https://brownshfs.co.uk/event/manual-handling-6/
CATEGORIES:Manual Handling
END:VEVENT
BEGIN:VEVENT
DTSTART;TZID=Europe/London:20230814T090000
DTEND;TZID=Europe/London:20230814T160000
DTSTAMP:20260422T051315
CREATED:20221031T115200Z
LAST-MODIFIED:20221031T115200Z
UID:3158-1692003600-1692028800@brownshfs.co.uk
SUMMARY:Emergency First Aid at Work (1 day)
DESCRIPTION:
URL:https://brownshfs.co.uk/event/emergency-first-aid-at-work-1-day-9/
CATEGORIES:EFAW,Emergency First Aid at Work (1 day course)
END:VEVENT
BEGIN:VEVENT
DTSTART;TZID=Europe/London:20230815T093000
DTEND;TZID=Europe/London:20230815T123000
DTSTAMP:20260422T051315
CREATED:20230531T145945Z
LAST-MODIFIED:20230531T145945Z
UID:3799-1692091800-1692102600@brownshfs.co.uk
SUMMARY:Fire Marshal
DESCRIPTION:
URL:https://brownshfs.co.uk/event/fire-marshal-15/
CATEGORIES:Fire Marshal
END:VEVENT
BEGIN:VEVENT
DTSTART;TZID=Europe/London:20230817T090000
DTEND;TZID=Europe/London:20230817T163000
DTSTAMP:20260422T051315
CREATED:20221011T122449Z
LAST-MODIFIED:20221011T122449Z
UID:3061-1692262800-1692289800@brownshfs.co.uk
SUMMARY:SPA MPQC Core & Quarry Renewal
DESCRIPTION:
URL:https://brownshfs.co.uk/event/spa-mpqc-core-quarry-renewal-37/
CATEGORIES:SPA MPQC Core & Quarry Renewal
END:VEVENT
BEGIN:VEVENT
DTSTART;TZID=Europe/London:20230823T090000
DTEND;TZID=Europe/London:20230824T163000
DTSTAMP:20260422T051315
CREATED:20221011T124225Z
LAST-MODIFIED:20221011T124225Z
UID:3089-1692781200-1692894600@brownshfs.co.uk
SUMMARY:SPA MPQC Core & Quarry
DESCRIPTION:
URL:https://brownshfs.co.uk/event/spa-mpqc-core-quarry-29/
CATEGORIES:SPA MPQC Core & Quarry
END:VEVENT
END:VCALENDAR