
BEGIN:VCALENDAR
VERSION:2.0
PRODID:-//Browns - ECPv6.15.20//NONSGML v1.0//EN
CALSCALE:GREGORIAN
METHOD:PUBLISH
X-WR-CALNAME:Browns
X-ORIGINAL-URL:https://brownshfs.co.uk
X-WR-CALDESC:Events for Browns
REFRESH-INTERVAL;VALUE=DURATION:PT1H
X-Robots-Tag:noindex
X-PUBLISHED-TTL:PT1H
BEGIN:VTIMEZONE
TZID:Europe/London
BEGIN:DAYLIGHT
TZOFFSETFROM:+0000
TZOFFSETTO:+0100
TZNAME:BST
DTSTART:20220327T010000
END:DAYLIGHT
BEGIN:STANDARD
TZOFFSETFROM:+0100
TZOFFSETTO:+0000
TZNAME:GMT
DTSTART:20221030T010000
END:STANDARD
BEGIN:DAYLIGHT
TZOFFSETFROM:+0000
TZOFFSETTO:+0100
TZNAME:BST
DTSTART:20230326T010000
END:DAYLIGHT
BEGIN:STANDARD
TZOFFSETFROM:+0100
TZOFFSETTO:+0000
TZNAME:GMT
DTSTART:20231029T010000
END:STANDARD
BEGIN:DAYLIGHT
TZOFFSETFROM:+0000
TZOFFSETTO:+0100
TZNAME:BST
DTSTART:20240331T010000
END:DAYLIGHT
BEGIN:STANDARD
TZOFFSETFROM:+0100
TZOFFSETTO:+0000
TZNAME:GMT
DTSTART:20241027T010000
END:STANDARD
END:VTIMEZONE
BEGIN:VEVENT
DTSTART;TZID=Europe/London:20230207T093000
DTEND;TZID=Europe/London:20230207T123000
DTSTAMP:20260422T191014
CREATED:20221031T111859Z
LAST-MODIFIED:20221031T111859Z
UID:3110-1675762200-1675773000@brownshfs.co.uk
SUMMARY:Manual Handling
DESCRIPTION:
URL:https://brownshfs.co.uk/event/manual-handling-7/
CATEGORIES:Manual Handling
END:VEVENT
BEGIN:VEVENT
DTSTART;TZID=Europe/London:20230208T093000
DTEND;TZID=Europe/London:20230208T123000
DTSTAMP:20260422T191014
CREATED:20221219T131455Z
LAST-MODIFIED:20230104T110628Z
UID:3720-1675848600-1675859400@brownshfs.co.uk
SUMMARY:Introduction to Health & Safety
DESCRIPTION:
URL:https://brownshfs.co.uk/event/introduction-to-health-safety/
CATEGORIES:General Health & Safety
END:VEVENT
BEGIN:VEVENT
DTSTART;TZID=Europe/London:20230209T090000
DTEND;TZID=Europe/London:20230209T160000
DTSTAMP:20260422T191014
CREATED:20221212T130717Z
LAST-MODIFIED:20221212T130717Z
UID:3395-1675933200-1675958400@brownshfs.co.uk
SUMMARY:SPA Core Construction
DESCRIPTION:
URL:https://brownshfs.co.uk/event/spa-core-construction/
CATEGORIES:SPA Core Construction
END:VEVENT
BEGIN:VEVENT
DTSTART;TZID=Europe/London:20230210T093000
DTEND;TZID=Europe/London:20230210T123000
DTSTAMP:20260422T191014
CREATED:20230110T132830Z
LAST-MODIFIED:20230110T132830Z
UID:3730-1676021400-1676032200@brownshfs.co.uk
SUMMARY:Asbestos Awareness
DESCRIPTION:
URL:https://brownshfs.co.uk/event/asbestos-awareness-4/
CATEGORIES:Asbestos Awareness
END:VEVENT
BEGIN:VEVENT
DTSTART;TZID=Europe/London:20230216T090000
DTEND;TZID=Europe/London:20230216T163000
DTSTAMP:20260422T191014
CREATED:20221011T121440Z
LAST-MODIFIED:20221011T121440Z
UID:3041-1676538000-1676565000@brownshfs.co.uk
SUMMARY:SPA MPQC Core & Quarry Renewal
DESCRIPTION:
URL:https://brownshfs.co.uk/event/spa-mpqc-core-quarry-renewal-28/
CATEGORIES:SPA MPQC Core & Quarry Renewal
END:VEVENT
BEGIN:VEVENT
DTSTART;TZID=Europe/London:20230217T090000
DTEND;TZID=Europe/London:20230217T160000
DTSTAMP:20260422T191014
CREATED:20221031T114643Z
LAST-MODIFIED:20221031T114643Z
UID:3145-1676624400-1676649600@brownshfs.co.uk
SUMMARY:Emergency First Aid at Work (1 day)
DESCRIPTION:
URL:https://brownshfs.co.uk/event/emergency-first-aid-at-work-1-day-3/
CATEGORIES:EFAW,Emergency First Aid at Work (1 day course)
END:VEVENT
BEGIN:VEVENT
DTSTART;TZID=Europe/London:20230221T093000
DTEND;TZID=Europe/London:20230221T123000
DTSTAMP:20260422T191014
CREATED:20221031T113239Z
LAST-MODIFIED:20221031T113239Z
UID:3125-1676971800-1676982600@brownshfs.co.uk
SUMMARY:Fire Marshal
DESCRIPTION:
URL:https://brownshfs.co.uk/event/fire-marshal-12/
CATEGORIES:Fire Marshal
END:VEVENT
BEGIN:VEVENT
DTSTART;TZID=Europe/London:20230222T090000
DTEND;TZID=Europe/London:20230223T163000
DTSTAMP:20260422T191014
CREATED:20221011T123652Z
LAST-MODIFIED:20221011T123652Z
UID:3081-1677056400-1677169800@brownshfs.co.uk
SUMMARY:SPA MPQC Core & Quarry
DESCRIPTION:
URL:https://brownshfs.co.uk/event/spa-mpqc-core-quarry-24/
CATEGORIES:SPA MPQC Core & Quarry
END:VEVENT
BEGIN:VEVENT
DTSTART;VALUE=DATE:20230224
DTEND;VALUE=DATE:20230225
DTSTAMP:20260422T191014
CREATED:20230214T144159Z
LAST-MODIFIED:20230214T144159Z
UID:3771-1677196800-1677283199@brownshfs.co.uk
SUMMARY:Basic Life Support with AED
DESCRIPTION:
URL:https://brownshfs.co.uk/event/basic-life-support-with-aed/
CATEGORIES:Basic Life Support with AED
END:VEVENT
END:VCALENDAR