
BEGIN:VCALENDAR
VERSION:2.0
PRODID:-//Browns - ECPv6.15.20//NONSGML v1.0//EN
CALSCALE:GREGORIAN
METHOD:PUBLISH
X-ORIGINAL-URL:https://brownshfs.co.uk
X-WR-CALDESC:Events for Browns
REFRESH-INTERVAL;VALUE=DURATION:PT1H
X-Robots-Tag:noindex
X-PUBLISHED-TTL:PT1H
BEGIN:VTIMEZONE
TZID:Europe/London
BEGIN:DAYLIGHT
TZOFFSETFROM:+0000
TZOFFSETTO:+0100
TZNAME:BST
DTSTART:20210328T010000
END:DAYLIGHT
BEGIN:STANDARD
TZOFFSETFROM:+0100
TZOFFSETTO:+0000
TZNAME:GMT
DTSTART:20211031T010000
END:STANDARD
BEGIN:DAYLIGHT
TZOFFSETFROM:+0000
TZOFFSETTO:+0100
TZNAME:BST
DTSTART:20220327T010000
END:DAYLIGHT
BEGIN:STANDARD
TZOFFSETFROM:+0100
TZOFFSETTO:+0000
TZNAME:GMT
DTSTART:20221030T010000
END:STANDARD
BEGIN:DAYLIGHT
TZOFFSETFROM:+0000
TZOFFSETTO:+0100
TZNAME:BST
DTSTART:20230326T010000
END:DAYLIGHT
BEGIN:STANDARD
TZOFFSETFROM:+0100
TZOFFSETTO:+0000
TZNAME:GMT
DTSTART:20231029T010000
END:STANDARD
END:VTIMEZONE
BEGIN:VEVENT
DTSTART;TZID=Europe/London:20220106T090000
DTEND;TZID=Europe/London:20220106T163000
DTSTAMP:20260423T161315
CREATED:20211016T202904Z
LAST-MODIFIED:20211016T202904Z
UID:2625-1641459600-1641486600@brownshfs.co.uk
SUMMARY:SPA MPQC Core & Quarry Renewal
DESCRIPTION:
URL:https://brownshfs.co.uk/event/spa-mpqc-core-quarry-renewal-10/
CATEGORIES:SPA MPQC Core & Quarry Renewal
END:VEVENT
BEGIN:VEVENT
DTSTART;TZID=Europe/London:20220112T090000
DTEND;TZID=Europe/London:20220113T163000
DTSTAMP:20260423T161315
CREATED:20211029T112931Z
LAST-MODIFIED:20211029T112931Z
UID:2672-1641978000-1642091400@brownshfs.co.uk
SUMMARY:SPA MPQC Core & Quarry
DESCRIPTION:
URL:https://brownshfs.co.uk/event/spa-mpqc-core-quarry-8/
CATEGORIES:SPA MPQC Core & Quarry
END:VEVENT
BEGIN:VEVENT
DTSTART;TZID=Europe/London:20220114T090000
DTEND;TZID=Europe/London:20220114T160000
DTSTAMP:20260423T161315
CREATED:20211014T131643Z
LAST-MODIFIED:20211014T131643Z
UID:2609-1642150800-1642176000@brownshfs.co.uk
SUMMARY:Emergency First Aid at Work (1 day course)
DESCRIPTION:
URL:https://brownshfs.co.uk/event/emergency-first-aid-at-work-1-day-course/
CATEGORIES:EFAW,Emergency First Aid at Work (1 day course)
END:VEVENT
BEGIN:VEVENT
DTSTART;TZID=Europe/London:20220119T090000
DTEND;TZID=Europe/London:20220120T160000
DTSTAMP:20260423T161315
CREATED:20211115T161857Z
LAST-MODIFIED:20211115T161857Z
UID:2695-1642582800-1642694400@brownshfs.co.uk
SUMMARY:First Aid at Work Renewal
DESCRIPTION:
URL:https://brownshfs.co.uk/event/first-aid-at-work-renewal/
CATEGORIES:First Aid at Work Renewal
END:VEVENT
BEGIN:VEVENT
DTSTART;TZID=Europe/London:20220124T084500
DTEND;TZID=Europe/London:20220125T164500
DTSTAMP:20260423T161315
CREATED:20211109T150657Z
LAST-MODIFIED:20211109T150657Z
UID:2685-1643013900-1643129100@brownshfs.co.uk
SUMMARY:MHFA England Mental Health First Aid
DESCRIPTION:
URL:https://brownshfs.co.uk/event/mhfa-england-mental-health-first-aid-4/
CATEGORIES:MHFA
END:VEVENT
BEGIN:VEVENT
DTSTART;TZID=Europe/London:20220127T090000
DTEND;TZID=Europe/London:20220127T160000
DTSTAMP:20260423T161315
CREATED:20211026T090453Z
LAST-MODIFIED:20211108T102539Z
UID:2666-1643274000-1643299200@brownshfs.co.uk
SUMMARY:SPA Core Construction - Jan
DESCRIPTION:
URL:https://brownshfs.co.uk/event/spa-core-construction-jan/
CATEGORIES:SPA Core Construction
END:VEVENT
BEGIN:VEVENT
DTSTART;TZID=Europe/London:20220128T090000
DTEND;TZID=Europe/London:20220128T163000
DTSTAMP:20260423T161315
CREATED:20220111T105959Z
LAST-MODIFIED:20220111T105959Z
UID:2806-1643360400-1643387400@brownshfs.co.uk
SUMMARY:SPA MPQC Core & Quarry Renewal
DESCRIPTION:
URL:https://brownshfs.co.uk/event/spa-mpqc-core-quarry-renewal-24/
CATEGORIES:SPA MPQC Core & Quarry Renewal
END:VEVENT
BEGIN:VEVENT
DTSTART;TZID=Europe/London:20220131T093000
DTEND;TZID=Europe/London:20220131T123000
DTSTAMP:20260423T161315
CREATED:20211130T091300Z
LAST-MODIFIED:20211202T123701Z
UID:2767-1643621400-1643632200@brownshfs.co.uk
SUMMARY:Manual Handling
DESCRIPTION:
URL:https://brownshfs.co.uk/event/manual-handling-2/
CATEGORIES:Manual Handling
END:VEVENT
BEGIN:VEVENT
DTSTART;TZID=Europe/London:20220131T133000
DTEND;TZID=Europe/London:20220131T163000
DTSTAMP:20260423T161315
CREATED:20211130T091202Z
LAST-MODIFIED:20211202T123601Z
UID:2766-1643635800-1643646600@brownshfs.co.uk
SUMMARY:Fire Marshal
DESCRIPTION:
URL:https://brownshfs.co.uk/event/fire-marshal-4/
CATEGORIES:Fire Marshal
END:VEVENT
END:VCALENDAR