
BEGIN:VCALENDAR
VERSION:2.0
PRODID:-//Browns - ECPv6.15.20//NONSGML v1.0//EN
CALSCALE:GREGORIAN
METHOD:PUBLISH
X-ORIGINAL-URL:https://brownshfs.co.uk
X-WR-CALDESC:Events for Browns
REFRESH-INTERVAL;VALUE=DURATION:PT1H
X-Robots-Tag:noindex
X-PUBLISHED-TTL:PT1H
BEGIN:VTIMEZONE
TZID:Europe/London
BEGIN:DAYLIGHT
TZOFFSETFROM:+0000
TZOFFSETTO:+0100
TZNAME:BST
DTSTART:20200329T010000
END:DAYLIGHT
BEGIN:STANDARD
TZOFFSETFROM:+0100
TZOFFSETTO:+0000
TZNAME:GMT
DTSTART:20201025T010000
END:STANDARD
BEGIN:DAYLIGHT
TZOFFSETFROM:+0000
TZOFFSETTO:+0100
TZNAME:BST
DTSTART:20210328T010000
END:DAYLIGHT
BEGIN:STANDARD
TZOFFSETFROM:+0100
TZOFFSETTO:+0000
TZNAME:GMT
DTSTART:20211031T010000
END:STANDARD
BEGIN:DAYLIGHT
TZOFFSETFROM:+0000
TZOFFSETTO:+0100
TZNAME:BST
DTSTART:20220327T010000
END:DAYLIGHT
BEGIN:STANDARD
TZOFFSETFROM:+0100
TZOFFSETTO:+0000
TZNAME:GMT
DTSTART:20221030T010000
END:STANDARD
END:VTIMEZONE
BEGIN:VEVENT
DTSTART;TZID=Europe/London:20210914T090000
DTEND;TZID=Europe/London:20210914T160000
DTSTAMP:20260423T212627
CREATED:20210609T145905Z
LAST-MODIFIED:20210609T145905Z
UID:2336-1631610000-1631635200@brownshfs.co.uk
SUMMARY:SPA MPQC Core & Quarry Renewal
DESCRIPTION:
URL:https://brownshfs.co.uk/event/spa-mpqc-core-quarry-renewal-4/
CATEGORIES:SPA MPQC Core & Quarry Renewal
END:VEVENT
BEGIN:VEVENT
DTSTART;TZID=Europe/London:20210915T090000
DTEND;TZID=Europe/London:20210916T160000
DTSTAMP:20260423T212627
CREATED:20210628T142331Z
LAST-MODIFIED:20210628T142331Z
UID:2351-1631696400-1631808000@brownshfs.co.uk
SUMMARY:SPA MPQC Core & Quarry
DESCRIPTION:
URL:https://brownshfs.co.uk/event/spa-mpqc-core-quarry/
CATEGORIES:SPA MPQC Core & Quarry
END:VEVENT
BEGIN:VEVENT
DTSTART;TZID=Europe/London:20210920T084500
DTEND;TZID=Europe/London:20210921T164500
DTSTAMP:20260423T212627
CREATED:20210607T121633Z
LAST-MODIFIED:20210607T121633Z
UID:2323-1632127500-1632242700@brownshfs.co.uk
SUMMARY:MHFA England Mental Health First Aid
DESCRIPTION:
URL:https://brownshfs.co.uk/event/mhfa-england-mental-health-first-aid-2/
CATEGORIES:MHFA
END:VEVENT
BEGIN:VEVENT
DTSTART;TZID=Europe/London:20210927T093000
DTEND;TZID=Europe/London:20210927T123000
DTSTAMP:20260423T212627
CREATED:20210608T112216Z
LAST-MODIFIED:20210804T133922Z
UID:2327-1632735000-1632745800@brownshfs.co.uk
SUMMARY:Manual Handling
DESCRIPTION:
URL:https://brownshfs.co.uk/event/manual-handling/
CATEGORIES:Manual Handling
END:VEVENT
BEGIN:VEVENT
DTSTART;TZID=Europe/London:20210927T133000
DTEND;TZID=Europe/London:20210927T163000
DTSTAMP:20260423T212627
CREATED:20210804T135459Z
LAST-MODIFIED:20210804T135459Z
UID:2503-1632749400-1632760200@brownshfs.co.uk
SUMMARY:Fire Marshal
DESCRIPTION:
URL:https://brownshfs.co.uk/event/fire-marshal-3/
CATEGORIES:Fire Marshal
END:VEVENT
END:VCALENDAR