
BEGIN:VCALENDAR
VERSION:2.0
PRODID:-//Browns - ECPv6.15.20//NONSGML v1.0//EN
CALSCALE:GREGORIAN
METHOD:PUBLISH
X-WR-CALNAME:Browns
X-ORIGINAL-URL:https://brownshfs.co.uk
X-WR-CALDESC:Events for Browns
REFRESH-INTERVAL;VALUE=DURATION:PT1H
X-Robots-Tag:noindex
X-PUBLISHED-TTL:PT1H
BEGIN:VTIMEZONE
TZID:Europe/London
BEGIN:DAYLIGHT
TZOFFSETFROM:+0000
TZOFFSETTO:+0100
TZNAME:BST
DTSTART:20200329T010000
END:DAYLIGHT
BEGIN:STANDARD
TZOFFSETFROM:+0100
TZOFFSETTO:+0000
TZNAME:GMT
DTSTART:20201025T010000
END:STANDARD
BEGIN:DAYLIGHT
TZOFFSETFROM:+0000
TZOFFSETTO:+0100
TZNAME:BST
DTSTART:20210328T010000
END:DAYLIGHT
BEGIN:STANDARD
TZOFFSETFROM:+0100
TZOFFSETTO:+0000
TZNAME:GMT
DTSTART:20211031T010000
END:STANDARD
BEGIN:DAYLIGHT
TZOFFSETFROM:+0000
TZOFFSETTO:+0100
TZNAME:BST
DTSTART:20220327T010000
END:DAYLIGHT
BEGIN:STANDARD
TZOFFSETFROM:+0100
TZOFFSETTO:+0000
TZNAME:GMT
DTSTART:20221030T010000
END:STANDARD
END:VTIMEZONE
BEGIN:VEVENT
DTSTART;TZID=Europe/London:20210426T083000
DTEND;TZID=Europe/London:20210427T163000
DTSTAMP:20260420T062003
CREATED:20210401T104201Z
LAST-MODIFIED:20210401T112854Z
UID:1830-1619425800-1619541000@brownshfs.co.uk
SUMMARY:CITB SMSTS Renewal - April
DESCRIPTION:
URL:https://brownshfs.co.uk/event/citb-smsts-renewal/
CATEGORIES:CITB SMSTS Renewal
END:VEVENT
BEGIN:VEVENT
DTSTART;TZID=Europe/London:20210421T090000
DTEND;TZID=Europe/London:20210421T160000
DTSTAMP:20260420T062003
CREATED:20210401T122213Z
LAST-MODIFIED:20210401T122514Z
UID:1889-1618995600-1619020800@brownshfs.co.uk
SUMMARY:SPA MPQC Core & Quarry Renewal - Apr21
DESCRIPTION:
URL:https://brownshfs.co.uk/event/spa-mpqc-core-quarry-renewal-apr21/
CATEGORIES:SPA MPQC Core & Quarry Renewal
END:VEVENT
BEGIN:VEVENT
DTSTART;TZID=Europe/London:20210419T090000
DTEND;TZID=Europe/London:20210420T160000
DTSTAMP:20260420T062003
CREATED:20210401T120321Z
LAST-MODIFIED:20210401T120321Z
UID:1881-1618822800-1618934400@brownshfs.co.uk
SUMMARY:MHFA England Mental Health First Aid - Apr19
DESCRIPTION:
URL:https://brownshfs.co.uk/event/mhfa-england-mental-health-first-aid-apr19/
CATEGORIES:MHFA
END:VEVENT
BEGIN:VEVENT
DTSTART;TZID=Europe/London:20210415T083000
DTEND;TZID=Europe/London:20210415T163000
DTSTAMP:20260420T062003
CREATED:20210401T104544Z
LAST-MODIFIED:20210430T102230Z
UID:1832-1618475400-1618504200@brownshfs.co.uk
SUMMARY:CITB SSSTS Renewal - April
DESCRIPTION:
URL:https://brownshfs.co.uk/event/citb-sssts-renewal-april/
CATEGORIES:CITB SSSTS Renewal
END:VEVENT
BEGIN:VEVENT
DTSTART;TZID=Europe/London:20210407T090000
DTEND;TZID=Europe/London:20210408T160000
DTSTAMP:20260420T062003
CREATED:20210401T121650Z
LAST-MODIFIED:20210401T121650Z
UID:1885-1617786000-1617897600@brownshfs.co.uk
SUMMARY:SPA MPQC Core & Quarry - Apr7
DESCRIPTION:
URL:https://brownshfs.co.uk/event/spa-mpqc-core-quarry-apr7/
CATEGORIES:SPA MPQC Core & Quarry
END:VEVENT
BEGIN:VEVENT
DTSTART;TZID=Europe/London:20210406T090000
DTEND;TZID=Europe/London:20210406T160000
DTSTAMP:20260420T062003
CREATED:20210401T111228Z
LAST-MODIFIED:20210401T111228Z
UID:1837-1617699600-1617724800@brownshfs.co.uk
SUMMARY:SPA Core Construction - April
DESCRIPTION:
URL:https://brownshfs.co.uk/event/spa-core-construction-april/
CATEGORIES:SPA Core Construction
END:VEVENT
BEGIN:VEVENT
DTSTART;TZID=Europe/London:20210312T093000
DTEND;TZID=Europe/London:20210312T133000
DTSTAMP:20260420T062003
CREATED:20210401T103056Z
LAST-MODIFIED:20210430T103507Z
UID:1828-1615541400-1615555800@brownshfs.co.uk
SUMMARY:Asbestos Awareness - May10
DESCRIPTION:
URL:https://brownshfs.co.uk/event/asbestos-awareness/
CATEGORIES:Asbestos Awareness
END:VEVENT
END:VCALENDAR