
BEGIN:VCALENDAR
VERSION:2.0
PRODID:-//Browns - ECPv6.15.20//NONSGML v1.0//EN
CALSCALE:GREGORIAN
METHOD:PUBLISH
X-WR-CALNAME:Browns
X-ORIGINAL-URL:https://brownshfs.co.uk
X-WR-CALDESC:Events for Browns
REFRESH-INTERVAL;VALUE=DURATION:PT1H
X-Robots-Tag:noindex
X-PUBLISHED-TTL:PT1H
BEGIN:VTIMEZONE
TZID:Europe/London
BEGIN:DAYLIGHT
TZOFFSETFROM:+0000
TZOFFSETTO:+0100
TZNAME:BST
DTSTART:20210328T010000
END:DAYLIGHT
BEGIN:STANDARD
TZOFFSETFROM:+0100
TZOFFSETTO:+0000
TZNAME:GMT
DTSTART:20211031T010000
END:STANDARD
BEGIN:DAYLIGHT
TZOFFSETFROM:+0000
TZOFFSETTO:+0100
TZNAME:BST
DTSTART:20220327T010000
END:DAYLIGHT
BEGIN:STANDARD
TZOFFSETFROM:+0100
TZOFFSETTO:+0000
TZNAME:GMT
DTSTART:20221030T010000
END:STANDARD
BEGIN:DAYLIGHT
TZOFFSETFROM:+0000
TZOFFSETTO:+0100
TZNAME:BST
DTSTART:20230326T010000
END:DAYLIGHT
BEGIN:STANDARD
TZOFFSETFROM:+0100
TZOFFSETTO:+0000
TZNAME:GMT
DTSTART:20231029T010000
END:STANDARD
END:VTIMEZONE
BEGIN:VEVENT
DTSTART;TZID=Europe/London:20220613T093000
DTEND;TZID=Europe/London:20220613T133000
DTSTAMP:20260420T061214
CREATED:20220525T133240Z
LAST-MODIFIED:20220525T133240Z
UID:2975-1655112600-1655127000@brownshfs.co.uk
SUMMARY:Asbestos Awareness - June 13
DESCRIPTION:
URL:https://brownshfs.co.uk/event/asbestos-awareness-june-13/
CATEGORIES:Asbestos Awareness
END:VEVENT
BEGIN:VEVENT
DTSTART;TZID=Europe/London:20220608T090000
DTEND;TZID=Europe/London:20220608T160000
DTSTAMP:20260420T061214
CREATED:20220426T091934Z
LAST-MODIFIED:20220426T091934Z
UID:2967-1654678800-1654704000@brownshfs.co.uk
SUMMARY:SPA Core Construction - June
DESCRIPTION:
URL:https://brownshfs.co.uk/event/spa-core-construction-june/
CATEGORIES:SPA Core Construction
END:VEVENT
BEGIN:VEVENT
DTSTART;TZID=Europe/London:20220607T090000
DTEND;TZID=Europe/London:20220607T163000
DTSTAMP:20260420T061214
CREATED:20211016T203438Z
LAST-MODIFIED:20211016T203438Z
UID:2637-1654592400-1654619400@brownshfs.co.uk
SUMMARY:SPA MPQC Core & Quarry Renewal
DESCRIPTION:
URL:https://brownshfs.co.uk/event/spa-mpqc-core-quarry-renewal-16/
CATEGORIES:SPA MPQC Core & Quarry Renewal
END:VEVENT
BEGIN:VEVENT
DTSTART;TZID=Europe/London:20220606T090000
DTEND;TZID=Europe/London:20220606T160000
DTSTAMP:20260420T061214
CREATED:20211116T085409Z
LAST-MODIFIED:20211116T085409Z
UID:2713-1654506000-1654531200@brownshfs.co.uk
SUMMARY:Emergency First Aid at Work (1 day course)
DESCRIPTION:
URL:https://brownshfs.co.uk/event/emergency-first-aid-at-work-1-day-course-6/
CATEGORIES:EFAW,Emergency First Aid at Work (1 day course)
END:VEVENT
BEGIN:VEVENT
DTSTART;TZID=Europe/London:20220523T084500
DTEND;TZID=Europe/London:20220524T164500
DTSTAMP:20260420T061214
CREATED:20211124T155457Z
LAST-MODIFIED:20211124T155457Z
UID:2758-1653295500-1653410700@brownshfs.co.uk
SUMMARY:MHFA England Mental Health First Aid
DESCRIPTION:
URL:https://brownshfs.co.uk/event/mhfa-england-mental-health-first-aid-6/
CATEGORIES:MHFA
END:VEVENT
BEGIN:VEVENT
DTSTART;TZID=Europe/London:20220518T090000
DTEND;TZID=Europe/London:20220519T163000
DTSTAMP:20260420T061214
CREATED:20211122T162457Z
LAST-MODIFIED:20211123T090908Z
UID:2737-1652864400-1652977800@brownshfs.co.uk
SUMMARY:SPA MPQC Core & Quarry
DESCRIPTION:
URL:https://brownshfs.co.uk/event/spa-mpqc-core-quarry-14/
CATEGORIES:SPA MPQC Core & Quarry
END:VEVENT
BEGIN:VEVENT
DTSTART;TZID=Europe/London:20220517T133000
DTEND;TZID=Europe/London:20220517T163000
DTSTAMP:20260420T061214
CREATED:20220428T140317Z
LAST-MODIFIED:20220428T140317Z
UID:2971-1652794200-1652805000@brownshfs.co.uk
SUMMARY:Fire Marshal
DESCRIPTION:
URL:https://brownshfs.co.uk/event/fire-marshal-9/
CATEGORIES:Fire Marshal
END:VEVENT
BEGIN:VEVENT
DTSTART;TZID=Europe/London:20220512T090000
DTEND;TZID=Europe/London:20220513T160000
DTSTAMP:20260420T061214
CREATED:20211115T162110Z
LAST-MODIFIED:20211115T162110Z
UID:2697-1652346000-1652457600@brownshfs.co.uk
SUMMARY:First Aid at Work Renewal
DESCRIPTION:
URL:https://brownshfs.co.uk/event/first-aid-at-work-renewal-2/
CATEGORIES:First Aid at Work Renewal
END:VEVENT
BEGIN:VEVENT
DTSTART;TZID=Europe/London:20220511T093000
DTEND;TZID=Europe/London:20220511T123000
DTSTAMP:20260420T061214
CREATED:20220324T130502Z
LAST-MODIFIED:20220324T130502Z
UID:2926-1652261400-1652272200@brownshfs.co.uk
SUMMARY:Fire Marshal
DESCRIPTION:
URL:https://brownshfs.co.uk/event/fire-marshal-6/
CATEGORIES:Fire Marshal
END:VEVENT
BEGIN:VEVENT
DTSTART;TZID=Europe/London:20220506T090000
DTEND;TZID=Europe/London:20220506T160000
DTSTAMP:20260420T061214
CREATED:20211116T085057Z
LAST-MODIFIED:20211116T085330Z
UID:2711-1651827600-1651852800@brownshfs.co.uk
SUMMARY:Emergency First Aid at Work (1 day course)
DESCRIPTION:
URL:https://brownshfs.co.uk/event/emergency-first-aid-at-work-1-day-course-4/
CATEGORIES:EFAW,Emergency First Aid at Work (1 day course)
END:VEVENT
BEGIN:VEVENT
DTSTART;TZID=Europe/London:20220505T090000
DTEND;TZID=Europe/London:20220505T163000
DTSTAMP:20260420T061214
CREATED:20211016T203335Z
LAST-MODIFIED:20211016T203335Z
UID:2635-1651741200-1651768200@brownshfs.co.uk
SUMMARY:SPA MPQC Core & Quarry Renewal
DESCRIPTION:
URL:https://brownshfs.co.uk/event/spa-mpqc-core-quarry-renewal-15/
CATEGORIES:SPA MPQC Core & Quarry Renewal
END:VEVENT
BEGIN:VEVENT
DTSTART;TZID=Europe/London:20220429T090000
DTEND;TZID=Europe/London:20220429T163000
DTSTAMP:20260420T061214
CREATED:20220411T112314Z
LAST-MODIFIED:20220411T112314Z
UID:2941-1651222800-1651249800@brownshfs.co.uk
SUMMARY:SPA MPQC Core & Quarry Renewal
DESCRIPTION:
URL:https://brownshfs.co.uk/event/spa-mpqc-core-quarry-renewal-25/
CATEGORIES:SPA MPQC Core & Quarry Renewal
END:VEVENT
BEGIN:VEVENT
DTSTART;TZID=Europe/London:20220428T090000
DTEND;TZID=Europe/London:20220429T163000
DTSTAMP:20260420T061214
CREATED:20220331T133504Z
LAST-MODIFIED:20220331T133504Z
UID:2934-1651136400-1651249800@brownshfs.co.uk
SUMMARY:SPA MPQC Core & Quarry
DESCRIPTION:
URL:https://brownshfs.co.uk/event/spa-mpqc-core-quarry-23/
CATEGORIES:SPA MPQC Core & Quarry
END:VEVENT
BEGIN:VEVENT
DTSTART;TZID=Europe/London:20220425T090000
DTEND;TZID=Europe/London:20220427T160000
DTSTAMP:20260420T061214
CREATED:20211115T162438Z
LAST-MODIFIED:20211115T162438Z
UID:2701-1650877200-1651075200@brownshfs.co.uk
SUMMARY:First aid at work (3 day course)
DESCRIPTION:
URL:https://brownshfs.co.uk/event/first-aid-at-work-3-day-course-5/
CATEGORIES:First aid at work (3 day course)
END:VEVENT
BEGIN:VEVENT
DTSTART;TZID=Europe/London:20220414T090000
DTEND;TZID=Europe/London:20220414T163000
DTSTAMP:20260420T061214
CREATED:20211016T203243Z
LAST-MODIFIED:20220207T092948Z
UID:2633-1649926800-1649953800@brownshfs.co.uk
SUMMARY:SPA MPQC Core & Quarry Renewal
DESCRIPTION:
URL:https://brownshfs.co.uk/event/spa-mpqc-core-quarry-renewal-14/
CATEGORIES:SPA MPQC Core & Quarry Renewal
END:VEVENT
BEGIN:VEVENT
DTSTART;TZID=Europe/London:20220412T090000
DTEND;TZID=Europe/London:20220413T163000
DTSTAMP:20260420T061214
CREATED:20211122T162256Z
LAST-MODIFIED:20211122T162256Z
UID:2735-1649754000-1649867400@brownshfs.co.uk
SUMMARY:SPA MPQC Core & Quarry
DESCRIPTION:
URL:https://brownshfs.co.uk/event/spa-mpqc-core-quarry-13/
CATEGORIES:SPA MPQC Core & Quarry
END:VEVENT
BEGIN:VEVENT
DTSTART;TZID=Europe/London:20220408T090000
DTEND;TZID=Europe/London:20220408T160000
DTSTAMP:20260420T061214
CREATED:20211116T085238Z
LAST-MODIFIED:20211116T085238Z
UID:2714-1649408400-1649433600@brownshfs.co.uk
SUMMARY:Emergency First Aid at Work (1 day course)
DESCRIPTION:
URL:https://brownshfs.co.uk/event/emergency-first-aid-at-work-1-day-course-5/
CATEGORIES:EFAW,Emergency First Aid at Work (1 day course)
END:VEVENT
BEGIN:VEVENT
DTSTART;TZID=Europe/London:20220407T090000
DTEND;TZID=Europe/London:20220407T160000
DTSTAMP:20260420T061214
CREATED:20220128T144303Z
LAST-MODIFIED:20220128T144303Z
UID:2816-1649322000-1649347200@brownshfs.co.uk
SUMMARY:Spa Core Day
DESCRIPTION:
URL:https://brownshfs.co.uk/event/spa-core-day-4/
CATEGORIES:SPA Core
END:VEVENT
BEGIN:VEVENT
DTSTART;TZID=Europe/London:20220406T090000
DTEND;TZID=Europe/London:20220406T160000
DTSTAMP:20260420T061214
CREATED:20220317T152049Z
LAST-MODIFIED:20220317T152049Z
UID:2924-1649235600-1649260800@brownshfs.co.uk
SUMMARY:Emergency First Aid at Work (1 day course)
DESCRIPTION:
URL:https://brownshfs.co.uk/event/emergency-first-aid-at-work-1-day-course-18/
CATEGORIES:EFAW,Emergency First Aid at Work (1 day course)
END:VEVENT
BEGIN:VEVENT
DTSTART;TZID=Europe/London:20220405T090000
DTEND;TZID=Europe/London:20220405T163000
DTSTAMP:20260420T061214
CREATED:20211016T203143Z
LAST-MODIFIED:20211016T203143Z
UID:2631-1649149200-1649176200@brownshfs.co.uk
SUMMARY:SPA MPQC Core & Quarry Renewal
DESCRIPTION:
URL:https://brownshfs.co.uk/event/spa-mpqc-core-quarry-renewal-13/
CATEGORIES:SPA MPQC Core & Quarry Renewal
END:VEVENT
BEGIN:VEVENT
DTSTART;TZID=Europe/London:20220328T084500
DTEND;TZID=Europe/London:20220328T164500
DTSTAMP:20260420T061214
CREATED:20220215T122412Z
LAST-MODIFIED:20220215T122412Z
UID:2863-1648457100-1648485900@brownshfs.co.uk
SUMMARY:IOSH March
DESCRIPTION:
URL:https://brownshfs.co.uk/event/iosh-march/
CATEGORIES:IOSH Managing Safely
END:VEVENT
BEGIN:VEVENT
DTSTART;TZID=Europe/London:20220324T090000
DTEND;TZID=Europe/London:20220325T163000
DTSTAMP:20260420T061214
CREATED:20220224T122831Z
LAST-MODIFIED:20220224T122831Z
UID:2917-1648112400-1648225800@brownshfs.co.uk
SUMMARY:SPA MPQC Core & Quarry
DESCRIPTION:
URL:https://brownshfs.co.uk/event/spa-mpqc-core-quarry-22/
CATEGORIES:SPA MPQC Core & Quarry
END:VEVENT
BEGIN:VEVENT
DTSTART;TZID=Europe/London:20220321T133000
DTEND;TZID=Europe/London:20220321T163000
DTSTAMP:20260420T061214
CREATED:20211130T091503Z
LAST-MODIFIED:20211130T091503Z
UID:2769-1647869400-1647880200@brownshfs.co.uk
SUMMARY:Manual Handling
DESCRIPTION:
URL:https://brownshfs.co.uk/event/manual-handling-3/
CATEGORIES:Manual Handling
END:VEVENT
BEGIN:VEVENT
DTSTART;TZID=Europe/London:20220321T093000
DTEND;TZID=Europe/London:20220321T123000
DTSTAMP:20260420T061214
CREATED:20211130T091406Z
LAST-MODIFIED:20211130T091406Z
UID:2768-1647855000-1647865800@brownshfs.co.uk
SUMMARY:Fire Marshal
DESCRIPTION:
URL:https://brownshfs.co.uk/event/fire-marshal-5/
CATEGORIES:Fire Marshal
END:VEVENT
BEGIN:VEVENT
DTSTART;TZID=Europe/London:20220318T090000
DTEND;TZID=Europe/London:20220318T160000
DTSTAMP:20260420T061214
CREATED:20211210T092804Z
LAST-MODIFIED:20211210T092949Z
UID:2791-1647594000-1647619200@brownshfs.co.uk
SUMMARY:Emergency First Aid at Work (1 day course)
DESCRIPTION:
URL:https://brownshfs.co.uk/event/emergency-first-aid-at-work-1-day-course-13/
CATEGORIES:EFAW,Emergency First Aid at Work (1 day course)
END:VEVENT
BEGIN:VEVENT
DTSTART;TZID=Europe/London:20220317T090000
DTEND;TZID=Europe/London:20220317T160000
DTSTAMP:20260420T061214
CREATED:20220201T130643Z
LAST-MODIFIED:20220201T130643Z
UID:2819-1647507600-1647532800@brownshfs.co.uk
SUMMARY:Emergency First Aid at Work (1 day course)
DESCRIPTION:
URL:https://brownshfs.co.uk/event/emergency-first-aid-at-work-1-day-course-16/
CATEGORIES:EFAW,Emergency First Aid at Work (1 day course)
END:VEVENT
BEGIN:VEVENT
DTSTART;TZID=Europe/London:20220311T090000
DTEND;TZID=Europe/London:20220311T160000
DTSTAMP:20260420T061214
CREATED:20211210T092905Z
LAST-MODIFIED:20211210T092905Z
UID:2790-1646989200-1647014400@brownshfs.co.uk
SUMMARY:Emergency First Aid at Work (1 day course)
DESCRIPTION:
URL:https://brownshfs.co.uk/event/emergency-first-aid-at-work-1-day-course-14/
CATEGORIES:EFAW,Emergency First Aid at Work (1 day course)
END:VEVENT
BEGIN:VEVENT
DTSTART;TZID=Europe/London:20220309T090000
DTEND;TZID=Europe/London:20220310T163000
DTSTAMP:20260420T061214
CREATED:20211122T162035Z
LAST-MODIFIED:20211122T162035Z
UID:2733-1646816400-1646929800@brownshfs.co.uk
SUMMARY:SPA MPQC Core & Quarry
DESCRIPTION:
URL:https://brownshfs.co.uk/event/spa-mpqc-core-quarry-12/
CATEGORIES:SPA MPQC Core & Quarry
END:VEVENT
BEGIN:VEVENT
DTSTART;TZID=Europe/London:20220304T090000
DTEND;TZID=Europe/London:20220304T160000
DTSTAMP:20260420T061214
CREATED:20211014T131901Z
LAST-MODIFIED:20211014T131901Z
UID:2613-1646384400-1646409600@brownshfs.co.uk
SUMMARY:Emergency First Aid at Work (1 day course)
DESCRIPTION:
URL:https://brownshfs.co.uk/event/emergency-first-aid-at-work-1-day-course-3/
CATEGORIES:EFAW,Emergency First Aid at Work (1 day course)
END:VEVENT
BEGIN:VEVENT
DTSTART;TZID=Europe/London:20220303T090000
DTEND;TZID=Europe/London:20220303T163000
DTSTAMP:20260420T061214
CREATED:20211016T203054Z
LAST-MODIFIED:20211016T203054Z
UID:2629-1646298000-1646325000@brownshfs.co.uk
SUMMARY:SPA MPQC Core & Quarry Renewal
DESCRIPTION:
URL:https://brownshfs.co.uk/event/spa-mpqc-core-quarry-renewal-12/
CATEGORIES:SPA MPQC Core & Quarry Renewal
END:VEVENT
END:VCALENDAR