
BEGIN:VCALENDAR
VERSION:2.0
PRODID:-//Browns - ECPv6.15.20//NONSGML v1.0//EN
CALSCALE:GREGORIAN
METHOD:PUBLISH
X-WR-CALNAME:Browns
X-ORIGINAL-URL:https://brownshfs.co.uk
X-WR-CALDESC:Events for Browns
REFRESH-INTERVAL;VALUE=DURATION:PT1H
X-Robots-Tag:noindex
X-PUBLISHED-TTL:PT1H
BEGIN:VTIMEZONE
TZID:Europe/London
BEGIN:DAYLIGHT
TZOFFSETFROM:+0000
TZOFFSETTO:+0100
TZNAME:BST
DTSTART:20200329T010000
END:DAYLIGHT
BEGIN:STANDARD
TZOFFSETFROM:+0100
TZOFFSETTO:+0000
TZNAME:GMT
DTSTART:20201025T010000
END:STANDARD
BEGIN:DAYLIGHT
TZOFFSETFROM:+0000
TZOFFSETTO:+0100
TZNAME:BST
DTSTART:20210328T010000
END:DAYLIGHT
BEGIN:STANDARD
TZOFFSETFROM:+0100
TZOFFSETTO:+0000
TZNAME:GMT
DTSTART:20211031T010000
END:STANDARD
BEGIN:DAYLIGHT
TZOFFSETFROM:+0000
TZOFFSETTO:+0100
TZNAME:BST
DTSTART:20220327T010000
END:DAYLIGHT
BEGIN:STANDARD
TZOFFSETFROM:+0100
TZOFFSETTO:+0000
TZNAME:GMT
DTSTART:20221030T010000
END:STANDARD
BEGIN:DAYLIGHT
TZOFFSETFROM:+0000
TZOFFSETTO:+0100
TZNAME:BST
DTSTART:20230326T010000
END:DAYLIGHT
BEGIN:STANDARD
TZOFFSETFROM:+0100
TZOFFSETTO:+0000
TZNAME:GMT
DTSTART:20231029T010000
END:STANDARD
END:VTIMEZONE
BEGIN:VEVENT
DTSTART;TZID=Europe/London:20220210T090000
DTEND;TZID=Europe/London:20220210T160000
DTSTAMP:20260420T212657
CREATED:20211203T145805Z
LAST-MODIFIED:20211217T150234Z
UID:2788-1644483600-1644508800@brownshfs.co.uk
SUMMARY:Spa Core Day
DESCRIPTION:
URL:https://brownshfs.co.uk/event/spa-core-day-3/
CATEGORIES:SPA Core
END:VEVENT
BEGIN:VEVENT
DTSTART;TZID=Europe/London:20220208T084500
DTEND;TZID=Europe/London:20220208T164500
DTSTAMP:20260420T212657
CREATED:20210914T085213Z
LAST-MODIFIED:20210922T135222Z
UID:2557-1644309900-1644338700@brownshfs.co.uk
SUMMARY:IOSH Managing Safely 3 Day Course
DESCRIPTION:
URL:https://brownshfs.co.uk/event/iosh-managing-safely-3-day-course/
CATEGORIES:IOSH Managing Safely
END:VEVENT
BEGIN:VEVENT
DTSTART;TZID=Europe/London:20220207T090000
DTEND;TZID=Europe/London:20220207T160000
DTSTAMP:20260420T212657
CREATED:20211014T131806Z
LAST-MODIFIED:20211014T131806Z
UID:2611-1644224400-1644249600@brownshfs.co.uk
SUMMARY:Emergency First Aid at Work (1 day course)
DESCRIPTION:
URL:https://brownshfs.co.uk/event/emergency-first-aid-at-work-1-day-course-2/
CATEGORIES:EFAW,Emergency First Aid at Work (1 day course)
END:VEVENT
BEGIN:VEVENT
DTSTART;TZID=Europe/London:20220202T090000
DTEND;TZID=Europe/London:20220203T163000
DTSTAMP:20260420T212657
CREATED:20211101T145438Z
LAST-MODIFIED:20211101T145438Z
UID:2677-1643792400-1643905800@brownshfs.co.uk
SUMMARY:SPA MPQC Core & Quarry
DESCRIPTION:
URL:https://brownshfs.co.uk/event/spa-mpqc-core-quarry-10/
CATEGORIES:SPA MPQC Core & Quarry
END:VEVENT
BEGIN:VEVENT
DTSTART;TZID=Europe/London:20220201T090000
DTEND;TZID=Europe/London:20220201T163000
DTSTAMP:20260420T212657
CREATED:20211016T202956Z
LAST-MODIFIED:20211016T202956Z
UID:2627-1643706000-1643733000@brownshfs.co.uk
SUMMARY:SPA MPQC Core & Quarry Renewal
DESCRIPTION:
URL:https://brownshfs.co.uk/event/spa-mpqc-core-quarry-renewal-11/
CATEGORIES:SPA MPQC Core & Quarry Renewal
END:VEVENT
BEGIN:VEVENT
DTSTART;TZID=Europe/London:20220131T133000
DTEND;TZID=Europe/London:20220131T163000
DTSTAMP:20260420T212657
CREATED:20211130T091202Z
LAST-MODIFIED:20211202T123601Z
UID:2766-1643635800-1643646600@brownshfs.co.uk
SUMMARY:Fire Marshal
DESCRIPTION:
URL:https://brownshfs.co.uk/event/fire-marshal-4/
CATEGORIES:Fire Marshal
END:VEVENT
BEGIN:VEVENT
DTSTART;TZID=Europe/London:20220131T093000
DTEND;TZID=Europe/London:20220131T123000
DTSTAMP:20260420T212657
CREATED:20211130T091300Z
LAST-MODIFIED:20211202T123701Z
UID:2767-1643621400-1643632200@brownshfs.co.uk
SUMMARY:Manual Handling
DESCRIPTION:
URL:https://brownshfs.co.uk/event/manual-handling-2/
CATEGORIES:Manual Handling
END:VEVENT
BEGIN:VEVENT
DTSTART;TZID=Europe/London:20220128T090000
DTEND;TZID=Europe/London:20220128T163000
DTSTAMP:20260420T212657
CREATED:20220111T105959Z
LAST-MODIFIED:20220111T105959Z
UID:2806-1643360400-1643387400@brownshfs.co.uk
SUMMARY:SPA MPQC Core & Quarry Renewal
DESCRIPTION:
URL:https://brownshfs.co.uk/event/spa-mpqc-core-quarry-renewal-24/
CATEGORIES:SPA MPQC Core & Quarry Renewal
END:VEVENT
BEGIN:VEVENT
DTSTART;TZID=Europe/London:20220127T090000
DTEND;TZID=Europe/London:20220127T160000
DTSTAMP:20260420T212657
CREATED:20211026T090453Z
LAST-MODIFIED:20211108T102539Z
UID:2666-1643274000-1643299200@brownshfs.co.uk
SUMMARY:SPA Core Construction - Jan
DESCRIPTION:
URL:https://brownshfs.co.uk/event/spa-core-construction-jan/
CATEGORIES:SPA Core Construction
END:VEVENT
BEGIN:VEVENT
DTSTART;TZID=Europe/London:20220124T084500
DTEND;TZID=Europe/London:20220125T164500
DTSTAMP:20260420T212657
CREATED:20211109T150657Z
LAST-MODIFIED:20211109T150657Z
UID:2685-1643013900-1643129100@brownshfs.co.uk
SUMMARY:MHFA England Mental Health First Aid
DESCRIPTION:
URL:https://brownshfs.co.uk/event/mhfa-england-mental-health-first-aid-4/
CATEGORIES:MHFA
END:VEVENT
BEGIN:VEVENT
DTSTART;TZID=Europe/London:20220119T090000
DTEND;TZID=Europe/London:20220120T160000
DTSTAMP:20260420T212657
CREATED:20211115T161857Z
LAST-MODIFIED:20211115T161857Z
UID:2695-1642582800-1642694400@brownshfs.co.uk
SUMMARY:First Aid at Work Renewal
DESCRIPTION:
URL:https://brownshfs.co.uk/event/first-aid-at-work-renewal/
CATEGORIES:First Aid at Work Renewal
END:VEVENT
BEGIN:VEVENT
DTSTART;TZID=Europe/London:20220114T090000
DTEND;TZID=Europe/London:20220114T160000
DTSTAMP:20260420T212657
CREATED:20211014T131643Z
LAST-MODIFIED:20211014T131643Z
UID:2609-1642150800-1642176000@brownshfs.co.uk
SUMMARY:Emergency First Aid at Work (1 day course)
DESCRIPTION:
URL:https://brownshfs.co.uk/event/emergency-first-aid-at-work-1-day-course/
CATEGORIES:EFAW,Emergency First Aid at Work (1 day course)
END:VEVENT
BEGIN:VEVENT
DTSTART;TZID=Europe/London:20220112T090000
DTEND;TZID=Europe/London:20220113T163000
DTSTAMP:20260420T212657
CREATED:20211029T112931Z
LAST-MODIFIED:20211029T112931Z
UID:2672-1641978000-1642091400@brownshfs.co.uk
SUMMARY:SPA MPQC Core & Quarry
DESCRIPTION:
URL:https://brownshfs.co.uk/event/spa-mpqc-core-quarry-8/
CATEGORIES:SPA MPQC Core & Quarry
END:VEVENT
BEGIN:VEVENT
DTSTART;TZID=Europe/London:20220106T090000
DTEND;TZID=Europe/London:20220106T163000
DTSTAMP:20260420T212657
CREATED:20211016T202904Z
LAST-MODIFIED:20211016T202904Z
UID:2625-1641459600-1641486600@brownshfs.co.uk
SUMMARY:SPA MPQC Core & Quarry Renewal
DESCRIPTION:
URL:https://brownshfs.co.uk/event/spa-mpqc-core-quarry-renewal-10/
CATEGORIES:SPA MPQC Core & Quarry Renewal
END:VEVENT
BEGIN:VEVENT
DTSTART;TZID=Europe/London:20211216T090000
DTEND;TZID=Europe/London:20211216T160000
DTSTAMP:20260420T212657
CREATED:20211026T090314Z
LAST-MODIFIED:20211026T090546Z
UID:2664-1639645200-1639670400@brownshfs.co.uk
SUMMARY:SPA Core Construction - Dec
DESCRIPTION:
URL:https://brownshfs.co.uk/event/spa-core-construction-may-2/
CATEGORIES:SPA Core Construction
END:VEVENT
BEGIN:VEVENT
DTSTART;TZID=Europe/London:20211214T090000
DTEND;TZID=Europe/London:20211215T163000
DTSTAMP:20260420T212657
CREATED:20210728T144011Z
LAST-MODIFIED:20211101T101335Z
UID:2499-1639472400-1639585800@brownshfs.co.uk
SUMMARY:SPA MPQC Core & Quarry
DESCRIPTION:
URL:https://brownshfs.co.uk/event/spa-mpqc-core-quarry-5/
CATEGORIES:SPA MPQC Core & Quarry
END:VEVENT
BEGIN:VEVENT
DTSTART;TZID=Europe/London:20211210T090000
DTEND;TZID=Europe/London:20211210T160000
DTSTAMP:20260420T212657
CREATED:20210506T085619Z
LAST-MODIFIED:20210817T102138Z
UID:2205-1639126800-1639152000@brownshfs.co.uk
SUMMARY:Emergency First Aid at Work (1 day course)
DESCRIPTION:
URL:https://brownshfs.co.uk/event/first-aid-at-work-1-day-course-2/
CATEGORIES:EFAW,Emergency First Aid at Work (1 day course)
END:VEVENT
BEGIN:VEVENT
DTSTART;TZID=Europe/London:20211207T084500
DTEND;TZID=Europe/London:20211207T164500
DTSTAMP:20260420T212657
CREATED:20211117T154131Z
LAST-MODIFIED:20211117T154131Z
UID:2729-1638866700-1638895500@brownshfs.co.uk
SUMMARY:IOSH Managing Safely 3 Day Course
DESCRIPTION:
URL:https://brownshfs.co.uk/event/iosh-managing-safely-3-day-course-2/
CATEGORIES:IOSH Managing Safely
END:VEVENT
BEGIN:VEVENT
DTSTART;TZID=Europe/London:20211201T090000
DTEND;TZID=Europe/London:20211202T163000
DTSTAMP:20260420T212657
CREATED:20211111T122411Z
LAST-MODIFIED:20211111T122411Z
UID:2687-1638349200-1638462600@brownshfs.co.uk
SUMMARY:SPA MPQC Core & Quarry
DESCRIPTION:
URL:https://brownshfs.co.uk/event/spa-mpqc-core-quarry-11/
CATEGORIES:SPA MPQC Core & Quarry
END:VEVENT
BEGIN:VEVENT
DTSTART;TZID=Europe/London:20211130T090000
DTEND;TZID=Europe/London:20211130T163000
DTSTAMP:20260420T212657
CREATED:20210921T110903Z
LAST-MODIFIED:20211016T202521Z
UID:2581-1638262800-1638289800@brownshfs.co.uk
SUMMARY:SPA MPQC Core & Quarry Renewal
DESCRIPTION:
URL:https://brownshfs.co.uk/event/spa-mpqc-core-quarry-renewal-6/
CATEGORIES:SPA MPQC Core & Quarry Renewal
END:VEVENT
BEGIN:VEVENT
DTSTART;TZID=Europe/London:20211125T090000
DTEND;TZID=Europe/London:20211126T163000
DTSTAMP:20260420T212657
CREATED:20211101T101137Z
LAST-MODIFIED:20211101T101137Z
UID:2675-1637830800-1637944200@brownshfs.co.uk
SUMMARY:SPA MPQC Core & Quarry
DESCRIPTION:
URL:https://brownshfs.co.uk/event/spa-mpqc-core-quarry-9/
CATEGORIES:SPA MPQC Core & Quarry
END:VEVENT
BEGIN:VEVENT
DTSTART;TZID=Europe/London:20211122T090000
DTEND;TZID=Europe/London:20211124T160000
DTSTAMP:20260420T212657
CREATED:20210921T150145Z
LAST-MODIFIED:20210921T150145Z
UID:2589-1637571600-1637769600@brownshfs.co.uk
SUMMARY:First aid at work (3 day course)
DESCRIPTION:
URL:https://brownshfs.co.uk/event/first-aid-at-work-3-day-course-3/
CATEGORIES:First aid at work (3 day course)
END:VEVENT
BEGIN:VEVENT
DTSTART;TZID=Europe/London:20211118T090000
DTEND;TZID=Europe/London:20211118T163000
DTSTAMP:20260420T212657
CREATED:20211024T172353Z
LAST-MODIFIED:20211024T172353Z
UID:2662-1637226000-1637253000@brownshfs.co.uk
SUMMARY:SPA MPQC Core & Quarry Renewal
DESCRIPTION:
URL:https://brownshfs.co.uk/event/spa-mpqc-core-quarry-renewal-23/
CATEGORIES:SPA MPQC Core & Quarry Renewal
END:VEVENT
BEGIN:VEVENT
DTSTART;TZID=Europe/London:20211117T090000
DTEND;TZID=Europe/London:20211117T163000
DTSTAMP:20260420T212657
CREATED:20211016T202745Z
LAST-MODIFIED:20211016T202745Z
UID:2623-1637139600-1637166600@brownshfs.co.uk
SUMMARY:SPA MPQC Core & Quarry Renewal
DESCRIPTION:
URL:https://brownshfs.co.uk/event/spa-mpqc-core-quarry-renewal-9/
CATEGORIES:SPA MPQC Core & Quarry Renewal
END:VEVENT
BEGIN:VEVENT
DTSTART;TZID=Europe/London:20211116T090000
DTEND;TZID=Europe/London:20211117T163000
DTSTAMP:20260420T212657
CREATED:20210728T143927Z
LAST-MODIFIED:20211101T101450Z
UID:2497-1637053200-1637166600@brownshfs.co.uk
SUMMARY:SPA MPQC Core & Quarry
DESCRIPTION:
URL:https://brownshfs.co.uk/event/spa-mpqc-core-quarry-4/
CATEGORIES:SPA MPQC Core & Quarry
END:VEVENT
BEGIN:VEVENT
DTSTART;TZID=Europe/London:20211112T090000
DTEND;TZID=Europe/London:20211112T160000
DTSTAMP:20260420T212657
CREATED:20210401T115624Z
LAST-MODIFIED:20210817T102944Z
UID:1876-1636707600-1636732800@brownshfs.co.uk
SUMMARY:Emergency First Aid at Work (1 day)
DESCRIPTION:
URL:https://brownshfs.co.uk/event/efaw-course-nov12/
CATEGORIES:EFAW,Emergency First Aid at Work (1 day course)
END:VEVENT
BEGIN:VEVENT
DTSTART;TZID=Europe/London:20211110T084500
DTEND;TZID=Europe/London:20211111T164500
DTSTAMP:20260420T212657
CREATED:20210727T114840Z
LAST-MODIFIED:20210727T114840Z
UID:2481-1636533900-1636649100@brownshfs.co.uk
SUMMARY:MHFA England Mental Health First Aid
DESCRIPTION:
URL:https://brownshfs.co.uk/event/mhfa-england-mental-health-first-aid-3/
CATEGORIES:MHFA
END:VEVENT
BEGIN:VEVENT
DTSTART;TZID=Europe/London:20211104T090000
DTEND;TZID=Europe/London:20211104T163000
DTSTAMP:20260420T212657
CREATED:20211016T202339Z
LAST-MODIFIED:20211016T202339Z
UID:2621-1636016400-1636043400@brownshfs.co.uk
SUMMARY:SPA MPQC Core & Quarry Renewal
DESCRIPTION:
URL:https://brownshfs.co.uk/event/spa-mpqc-core-quarry-renewal-8/
CATEGORIES:SPA MPQC Core & Quarry Renewal
END:VEVENT
BEGIN:VEVENT
DTSTART;TZID=Europe/London:20211103T090000
DTEND;TZID=Europe/London:20211104T163000
DTSTAMP:20260420T212657
CREATED:20210921T111324Z
LAST-MODIFIED:20211101T101602Z
UID:2585-1635930000-1636043400@brownshfs.co.uk
SUMMARY:SPA MPQC Core & Quarry
DESCRIPTION:
URL:https://brownshfs.co.uk/event/spa-mpqc-core-quarry-7/
CATEGORIES:SPA MPQC Core & Quarry
END:VEVENT
BEGIN:VEVENT
DTSTART;TZID=Europe/London:20211025T090000
DTEND;TZID=Europe/London:20211025T160000
DTSTAMP:20260420T212657
CREATED:20210921T105229Z
LAST-MODIFIED:20210921T110318Z
UID:2577-1635152400-1635177600@brownshfs.co.uk
SUMMARY:Emergency First Aid at Work (1 day)
DESCRIPTION:
URL:https://brownshfs.co.uk/event/emergency-first-aid-at-work-1-day/
CATEGORIES:EFAW,Emergency First Aid at Work (1 day course)
END:VEVENT
END:VCALENDAR