
BEGIN:VCALENDAR
VERSION:2.0
PRODID:-//Browns - ECPv6.15.20//NONSGML v1.0//EN
CALSCALE:GREGORIAN
METHOD:PUBLISH
X-WR-CALNAME:Browns
X-ORIGINAL-URL:https://brownshfs.co.uk
X-WR-CALDESC:Events for Browns
REFRESH-INTERVAL;VALUE=DURATION:PT1H
X-Robots-Tag:noindex
X-PUBLISHED-TTL:PT1H
BEGIN:VTIMEZONE
TZID:Europe/London
BEGIN:DAYLIGHT
TZOFFSETFROM:+0000
TZOFFSETTO:+0100
TZNAME:BST
DTSTART:20200329T010000
END:DAYLIGHT
BEGIN:STANDARD
TZOFFSETFROM:+0100
TZOFFSETTO:+0000
TZNAME:GMT
DTSTART:20201025T010000
END:STANDARD
BEGIN:DAYLIGHT
TZOFFSETFROM:+0000
TZOFFSETTO:+0100
TZNAME:BST
DTSTART:20210328T010000
END:DAYLIGHT
BEGIN:STANDARD
TZOFFSETFROM:+0100
TZOFFSETTO:+0000
TZNAME:GMT
DTSTART:20211031T010000
END:STANDARD
BEGIN:DAYLIGHT
TZOFFSETFROM:+0000
TZOFFSETTO:+0100
TZNAME:BST
DTSTART:20220327T010000
END:DAYLIGHT
BEGIN:STANDARD
TZOFFSETFROM:+0100
TZOFFSETTO:+0000
TZNAME:GMT
DTSTART:20221030T010000
END:STANDARD
END:VTIMEZONE
BEGIN:VEVENT
DTSTART;TZID=Europe/London:20210526T090000
DTEND;TZID=Europe/London:20210526T160000
DTSTAMP:20260421T234155
CREATED:20210401T122743Z
LAST-MODIFIED:20210401T122743Z
UID:1896-1622019600-1622044800@brownshfs.co.uk
SUMMARY:SPA MPQC Core & Quarry Renewal - May26
DESCRIPTION:
URL:https://brownshfs.co.uk/event/spa-mpqc-core-quarry-renewal-may26/
CATEGORIES:SPA MPQC Core & Quarry Renewal
END:VEVENT
BEGIN:VEVENT
DTSTART;TZID=Europe/London:20210521T090000
DTEND;TZID=Europe/London:20210521T160000
DTSTAMP:20260421T234155
CREATED:20210401T115127Z
LAST-MODIFIED:20210430T105336Z
UID:1862-1621587600-1621612800@brownshfs.co.uk
SUMMARY:First aid at work (1 day course) - MAY21
DESCRIPTION:
URL:https://brownshfs.co.uk/event/first-aid-at-work-1-day-course-may21/
CATEGORIES:EFAW
END:VEVENT
BEGIN:VEVENT
DTSTART;TZID=Europe/London:20210518T090000
DTEND;TZID=Europe/London:20210519T160000
DTSTAMP:20260421T234155
CREATED:20210401T121840Z
LAST-MODIFIED:20210401T121840Z
UID:1887-1621328400-1621440000@brownshfs.co.uk
SUMMARY:SPA MPQC Core & Quarry - May18
DESCRIPTION:
URL:https://brownshfs.co.uk/event/spa-mpqc-core-quarry-may18/
CATEGORIES:SPA MPQC Core & Quarry
END:VEVENT
BEGIN:VEVENT
DTSTART;TZID=Europe/London:20210514T093000
DTEND;TZID=Europe/London:20210514T123000
DTSTAMP:20260421T234155
CREATED:20210401T111753Z
LAST-MODIFIED:20210401T111753Z
UID:1843-1620984600-1620995400@brownshfs.co.uk
SUMMARY:COSHH - MAY14
DESCRIPTION:
URL:https://brownshfs.co.uk/event/coshh-may14/
CATEGORIES:COSHH
END:VEVENT
BEGIN:VEVENT
DTSTART;TZID=Europe/London:20210513T090000
DTEND;TZID=Europe/London:20210513T160000
DTSTAMP:20260421T234155
CREATED:20210401T111528Z
LAST-MODIFIED:20210401T111528Z
UID:1839-1620896400-1620921600@brownshfs.co.uk
SUMMARY:SPA Core Construction - May
DESCRIPTION:
URL:https://brownshfs.co.uk/event/spa-core-construction-may/
CATEGORIES:SPA Core Construction
END:VEVENT
BEGIN:VEVENT
DTSTART;TZID=Europe/London:20210510T090000
DTEND;TZID=Europe/London:20210512T160000
DTSTAMP:20260421T234155
CREATED:20210114T104935Z
LAST-MODIFIED:20210401T113158Z
UID:663-1620637200-1620835200@brownshfs.co.uk
SUMMARY:First aid at work (3 day course) - May
DESCRIPTION:
URL:https://brownshfs.co.uk/event/first-aid-at-work-3-day-course-2/
CATEGORIES:First aid at work (3 day course)
END:VEVENT
BEGIN:VEVENT
DTSTART;TZID=Europe/London:20210510T090000
DTEND;TZID=Europe/London:20210510T160000
DTSTAMP:20260421T234155
CREATED:20210401T114808Z
LAST-MODIFIED:20210430T105341Z
UID:1860-1620637200-1620662400@brownshfs.co.uk
SUMMARY:First aid at work (1 day course) - MAY10
DESCRIPTION:
URL:https://brownshfs.co.uk/event/first-aid-at-work-1-day-course-may10/
CATEGORIES:EFAW
END:VEVENT
BEGIN:VEVENT
DTSTART;TZID=Europe/London:20210507T093000
DTEND;TZID=Europe/London:20210507T123000
DTSTAMP:20260421T234155
CREATED:20210401T111700Z
LAST-MODIFIED:20210401T111700Z
UID:1841-1620379800-1620390600@brownshfs.co.uk
SUMMARY:COSHH - MAY7
DESCRIPTION:
URL:https://brownshfs.co.uk/event/coshh-may7/
CATEGORIES:COSHH
END:VEVENT
BEGIN:VEVENT
DTSTART;TZID=Europe/London:20210506T090000
DTEND;TZID=Europe/London:20210506T160000
DTSTAMP:20260421T234155
CREATED:20210401T122439Z
LAST-MODIFIED:20210401T122439Z
UID:1892-1620291600-1620316800@brownshfs.co.uk
SUMMARY:SPA MPQC Core & Quarry Renewal - May6
DESCRIPTION:
URL:https://brownshfs.co.uk/event/spa-mpqc-core-quarry-renewal-may6/
CATEGORIES:SPA MPQC Core & Quarry Renewal
END:VEVENT
BEGIN:VEVENT
DTSTART;TZID=Europe/London:20210505T090000
DTEND;TZID=Europe/London:20210505T160000
DTSTAMP:20260421T234155
CREATED:20210401T114510Z
LAST-MODIFIED:20210430T105349Z
UID:1856-1620205200-1620230400@brownshfs.co.uk
SUMMARY:First aid at work (1 day course) - MAY5
DESCRIPTION:
URL:https://brownshfs.co.uk/event/first-aid-at-work-1-day-course-may5/
CATEGORIES:EFAW
END:VEVENT
BEGIN:VEVENT
DTSTART;TZID=Europe/London:20210430T093000
DTEND;TZID=Europe/London:20210430T123000
DTSTAMP:20260421T234155
CREATED:20210401T112149Z
LAST-MODIFIED:20210401T112823Z
UID:1845-1619775000-1619785800@brownshfs.co.uk
SUMMARY:Fire Marshal - April
DESCRIPTION:
URL:https://brownshfs.co.uk/event/fire-marshal/
CATEGORIES:Fire Marshal
END:VEVENT
BEGIN:VEVENT
DTSTART;TZID=Europe/London:20210428T090000
DTEND;TZID=Europe/London:20210428T160000
DTSTAMP:20260421T234155
CREATED:20210121T112950Z
LAST-MODIFIED:20210401T124115Z
UID:664-1619600400-1619625600@brownshfs.co.uk
SUMMARY:First aid at work (1 day course) - AP28
DESCRIPTION:
URL:https://brownshfs.co.uk/event/first-aid-at-work-1-day-course/
CATEGORIES:Emergency First Aid at Work (1 day course)
END:VEVENT
BEGIN:VEVENT
DTSTART;TZID=Europe/London:20210426T083000
DTEND;TZID=Europe/London:20210427T163000
DTSTAMP:20260421T234155
CREATED:20210401T104201Z
LAST-MODIFIED:20210401T112854Z
UID:1830-1619425800-1619541000@brownshfs.co.uk
SUMMARY:CITB SMSTS Renewal - April
DESCRIPTION:
URL:https://brownshfs.co.uk/event/citb-smsts-renewal/
CATEGORIES:CITB SMSTS Renewal
END:VEVENT
BEGIN:VEVENT
DTSTART;TZID=Europe/London:20210421T090000
DTEND;TZID=Europe/London:20210421T160000
DTSTAMP:20260421T234155
CREATED:20210401T122213Z
LAST-MODIFIED:20210401T122514Z
UID:1889-1618995600-1619020800@brownshfs.co.uk
SUMMARY:SPA MPQC Core & Quarry Renewal - Apr21
DESCRIPTION:
URL:https://brownshfs.co.uk/event/spa-mpqc-core-quarry-renewal-apr21/
CATEGORIES:SPA MPQC Core & Quarry Renewal
END:VEVENT
BEGIN:VEVENT
DTSTART;TZID=Europe/London:20210419T090000
DTEND;TZID=Europe/London:20210420T160000
DTSTAMP:20260421T234155
CREATED:20210401T120321Z
LAST-MODIFIED:20210401T120321Z
UID:1881-1618822800-1618934400@brownshfs.co.uk
SUMMARY:MHFA England Mental Health First Aid - Apr19
DESCRIPTION:
URL:https://brownshfs.co.uk/event/mhfa-england-mental-health-first-aid-apr19/
CATEGORIES:MHFA
END:VEVENT
BEGIN:VEVENT
DTSTART;TZID=Europe/London:20210415T083000
DTEND;TZID=Europe/London:20210415T163000
DTSTAMP:20260421T234155
CREATED:20210401T104544Z
LAST-MODIFIED:20210430T102230Z
UID:1832-1618475400-1618504200@brownshfs.co.uk
SUMMARY:CITB SSSTS Renewal - April
DESCRIPTION:
URL:https://brownshfs.co.uk/event/citb-sssts-renewal-april/
CATEGORIES:CITB SSSTS Renewal
END:VEVENT
BEGIN:VEVENT
DTSTART;TZID=Europe/London:20210407T090000
DTEND;TZID=Europe/London:20210408T160000
DTSTAMP:20260421T234155
CREATED:20210401T121650Z
LAST-MODIFIED:20210401T121650Z
UID:1885-1617786000-1617897600@brownshfs.co.uk
SUMMARY:SPA MPQC Core & Quarry - Apr7
DESCRIPTION:
URL:https://brownshfs.co.uk/event/spa-mpqc-core-quarry-apr7/
CATEGORIES:SPA MPQC Core & Quarry
END:VEVENT
BEGIN:VEVENT
DTSTART;TZID=Europe/London:20210406T090000
DTEND;TZID=Europe/London:20210406T160000
DTSTAMP:20260421T234155
CREATED:20210401T111228Z
LAST-MODIFIED:20210401T111228Z
UID:1837-1617699600-1617724800@brownshfs.co.uk
SUMMARY:SPA Core Construction - April
DESCRIPTION:
URL:https://brownshfs.co.uk/event/spa-core-construction-april/
CATEGORIES:SPA Core Construction
END:VEVENT
BEGIN:VEVENT
DTSTART;TZID=Europe/London:20210312T093000
DTEND;TZID=Europe/London:20210312T133000
DTSTAMP:20260421T234155
CREATED:20210401T103056Z
LAST-MODIFIED:20210430T103507Z
UID:1828-1615541400-1615555800@brownshfs.co.uk
SUMMARY:Asbestos Awareness - May10
DESCRIPTION:
URL:https://brownshfs.co.uk/event/asbestos-awareness/
CATEGORIES:Asbestos Awareness
END:VEVENT
END:VCALENDAR