
BEGIN:VCALENDAR
VERSION:2.0
PRODID:-//Browns - ECPv6.15.20//NONSGML v1.0//EN
CALSCALE:GREGORIAN
METHOD:PUBLISH
X-WR-CALNAME:Browns
X-ORIGINAL-URL:https://brownshfs.co.uk
X-WR-CALDESC:Events for Browns
REFRESH-INTERVAL;VALUE=DURATION:PT1H
X-Robots-Tag:noindex
X-PUBLISHED-TTL:PT1H
BEGIN:VTIMEZONE
TZID:Europe/London
BEGIN:DAYLIGHT
TZOFFSETFROM:+0000
TZOFFSETTO:+0100
TZNAME:BST
DTSTART:20210328T010000
END:DAYLIGHT
BEGIN:STANDARD
TZOFFSETFROM:+0100
TZOFFSETTO:+0000
TZNAME:GMT
DTSTART:20211031T010000
END:STANDARD
BEGIN:DAYLIGHT
TZOFFSETFROM:+0000
TZOFFSETTO:+0100
TZNAME:BST
DTSTART:20220327T010000
END:DAYLIGHT
BEGIN:STANDARD
TZOFFSETFROM:+0100
TZOFFSETTO:+0000
TZNAME:GMT
DTSTART:20221030T010000
END:STANDARD
BEGIN:DAYLIGHT
TZOFFSETFROM:+0000
TZOFFSETTO:+0100
TZNAME:BST
DTSTART:20230326T010000
END:DAYLIGHT
BEGIN:STANDARD
TZOFFSETFROM:+0100
TZOFFSETTO:+0000
TZNAME:GMT
DTSTART:20231029T010000
END:STANDARD
BEGIN:DAYLIGHT
TZOFFSETFROM:+0000
TZOFFSETTO:+0100
TZNAME:BST
DTSTART:20240331T010000
END:DAYLIGHT
BEGIN:STANDARD
TZOFFSETFROM:+0100
TZOFFSETTO:+0000
TZNAME:GMT
DTSTART:20241027T010000
END:STANDARD
END:VTIMEZONE
BEGIN:VEVENT
DTSTART;TZID=Europe/London:20230505T090000
DTEND;TZID=Europe/London:20230505T160000
DTSTAMP:20260421T032647
CREATED:20230207T123720Z
LAST-MODIFIED:20230207T123720Z
UID:3752-1683277200-1683302400@brownshfs.co.uk
SUMMARY:Emergency First Aid at Work (1 day)
DESCRIPTION:
URL:https://brownshfs.co.uk/event/emergency-first-aid-at-work-1-day-14/
CATEGORIES:EFAW,Emergency First Aid at Work (1 day course)
END:VEVENT
BEGIN:VEVENT
DTSTART;TZID=Europe/London:20230504T090000
DTEND;TZID=Europe/London:20230504T163000
DTSTAMP:20260421T032647
CREATED:20221011T121845Z
LAST-MODIFIED:20221011T121845Z
UID:3051-1683190800-1683217800@brownshfs.co.uk
SUMMARY:SPA MPQC Core & Quarry Renewal
DESCRIPTION:
URL:https://brownshfs.co.uk/event/spa-mpqc-core-quarry-renewal-31/
CATEGORIES:SPA MPQC Core & Quarry Renewal
END:VEVENT
BEGIN:VEVENT
DTSTART;TZID=Europe/London:20230420T093000
DTEND;TZID=Europe/London:20230420T123000
DTSTAMP:20260421T032647
CREATED:20230411T143056Z
LAST-MODIFIED:20230411T143056Z
UID:3786-1681983000-1681993800@brownshfs.co.uk
SUMMARY:Fire Marshal
DESCRIPTION:
URL:https://brownshfs.co.uk/event/fire-marshal-13/
CATEGORIES:Fire Marshal
END:VEVENT
BEGIN:VEVENT
DTSTART;TZID=Europe/London:20230417T090000
DTEND;TZID=Europe/London:20230417T160000
DTSTAMP:20260421T032647
CREATED:20221031T114807Z
LAST-MODIFIED:20221031T114807Z
UID:3143-1681722000-1681747200@brownshfs.co.uk
SUMMARY:Emergency First Aid at Work (1 day)
DESCRIPTION:
URL:https://brownshfs.co.uk/event/emergency-first-aid-at-work-1-day-5/
CATEGORIES:EFAW,Emergency First Aid at Work (1 day course)
END:VEVENT
BEGIN:VEVENT
DTSTART;TZID=Europe/London:20230414T093000
DTEND;TZID=Europe/London:20230414T123000
DTSTAMP:20260421T032647
CREATED:20230214T144619Z
LAST-MODIFIED:20230215T095904Z
UID:3775-1681464600-1681475400@brownshfs.co.uk
SUMMARY:Understanding Risk Assessment
DESCRIPTION:
URL:https://brownshfs.co.uk/event/understanding-risk-assessment/
CATEGORIES:Risk Assessment
END:VEVENT
BEGIN:VEVENT
DTSTART;TZID=Europe/London:20230405T090000
DTEND;TZID=Europe/London:20230406T163000
DTSTAMP:20260421T032647
CREATED:20221011T123427Z
LAST-MODIFIED:20221011T123427Z
UID:3079-1680685200-1680798600@brownshfs.co.uk
SUMMARY:SPA MPQC Core & Quarry
DESCRIPTION:
URL:https://brownshfs.co.uk/event/spa-mpqc-core-quarry-15/
CATEGORIES:SPA MPQC Core & Quarry
END:VEVENT
BEGIN:VEVENT
DTSTART;TZID=Europe/London:20230331T090000
DTEND;TZID=Europe/London:20230331T160000
DTSTAMP:20260421T032647
CREATED:20230214T123859Z
LAST-MODIFIED:20230214T123859Z
UID:3763-1680253200-1680278400@brownshfs.co.uk
SUMMARY:Emergency First Aid at Work (1 day)
DESCRIPTION:
URL:https://brownshfs.co.uk/event/emergency-first-aid-at-work-1-day-20/
CATEGORIES:EFAW,Emergency First Aid at Work (1 day course)
END:VEVENT
BEGIN:VEVENT
DTSTART;TZID=Europe/London:20230322T090000
DTEND;TZID=Europe/London:20230323T163000
DTSTAMP:20260421T032647
CREATED:20221011T123847Z
LAST-MODIFIED:20221011T123847Z
UID:3086-1679475600-1679589000@brownshfs.co.uk
SUMMARY:SPA MPQC Core & Quarry
DESCRIPTION:
URL:https://brownshfs.co.uk/event/spa-mpqc-core-quarry-25/
CATEGORIES:SPA MPQC Core & Quarry
END:VEVENT
BEGIN:VEVENT
DTSTART;TZID=Europe/London:20230313T090000
DTEND;TZID=Europe/London:20230313T160000
DTSTAMP:20260421T032647
CREATED:20221031T114729Z
LAST-MODIFIED:20221031T114729Z
UID:3144-1678698000-1678723200@brownshfs.co.uk
SUMMARY:Emergency First Aid at Work (1 day)
DESCRIPTION:
URL:https://brownshfs.co.uk/event/emergency-first-aid-at-work-1-day-4/
CATEGORIES:EFAW,Emergency First Aid at Work (1 day course)
END:VEVENT
BEGIN:VEVENT
DTSTART;TZID=Europe/London:20230302T090000
DTEND;TZID=Europe/London:20230302T163000
DTSTAMP:20260421T032647
CREATED:20221011T121532Z
LAST-MODIFIED:20221011T121532Z
UID:3040-1677747600-1677774600@brownshfs.co.uk
SUMMARY:SPA MPQC Core & Quarry Renewal
DESCRIPTION:
URL:https://brownshfs.co.uk/event/spa-mpqc-core-quarry-renewal-29/
CATEGORIES:SPA MPQC Core & Quarry Renewal
END:VEVENT
BEGIN:VEVENT
DTSTART;VALUE=DATE:20230224
DTEND;VALUE=DATE:20230225
DTSTAMP:20260421T032647
CREATED:20230214T144159Z
LAST-MODIFIED:20230214T144159Z
UID:3771-1677196800-1677283199@brownshfs.co.uk
SUMMARY:Basic Life Support with AED
DESCRIPTION:
URL:https://brownshfs.co.uk/event/basic-life-support-with-aed/
CATEGORIES:Basic Life Support with AED
END:VEVENT
BEGIN:VEVENT
DTSTART;TZID=Europe/London:20230222T090000
DTEND;TZID=Europe/London:20230223T163000
DTSTAMP:20260421T032647
CREATED:20221011T123652Z
LAST-MODIFIED:20221011T123652Z
UID:3081-1677056400-1677169800@brownshfs.co.uk
SUMMARY:SPA MPQC Core & Quarry
DESCRIPTION:
URL:https://brownshfs.co.uk/event/spa-mpqc-core-quarry-24/
CATEGORIES:SPA MPQC Core & Quarry
END:VEVENT
BEGIN:VEVENT
DTSTART;TZID=Europe/London:20230221T093000
DTEND;TZID=Europe/London:20230221T123000
DTSTAMP:20260421T032647
CREATED:20221031T113239Z
LAST-MODIFIED:20221031T113239Z
UID:3125-1676971800-1676982600@brownshfs.co.uk
SUMMARY:Fire Marshal
DESCRIPTION:
URL:https://brownshfs.co.uk/event/fire-marshal-12/
CATEGORIES:Fire Marshal
END:VEVENT
BEGIN:VEVENT
DTSTART;TZID=Europe/London:20230217T090000
DTEND;TZID=Europe/London:20230217T160000
DTSTAMP:20260421T032647
CREATED:20221031T114643Z
LAST-MODIFIED:20221031T114643Z
UID:3145-1676624400-1676649600@brownshfs.co.uk
SUMMARY:Emergency First Aid at Work (1 day)
DESCRIPTION:
URL:https://brownshfs.co.uk/event/emergency-first-aid-at-work-1-day-3/
CATEGORIES:EFAW,Emergency First Aid at Work (1 day course)
END:VEVENT
BEGIN:VEVENT
DTSTART;TZID=Europe/London:20230216T090000
DTEND;TZID=Europe/London:20230216T163000
DTSTAMP:20260421T032647
CREATED:20221011T121440Z
LAST-MODIFIED:20221011T121440Z
UID:3041-1676538000-1676565000@brownshfs.co.uk
SUMMARY:SPA MPQC Core & Quarry Renewal
DESCRIPTION:
URL:https://brownshfs.co.uk/event/spa-mpqc-core-quarry-renewal-28/
CATEGORIES:SPA MPQC Core & Quarry Renewal
END:VEVENT
BEGIN:VEVENT
DTSTART;TZID=Europe/London:20230210T093000
DTEND;TZID=Europe/London:20230210T123000
DTSTAMP:20260421T032647
CREATED:20230110T132830Z
LAST-MODIFIED:20230110T132830Z
UID:3730-1676021400-1676032200@brownshfs.co.uk
SUMMARY:Asbestos Awareness
DESCRIPTION:
URL:https://brownshfs.co.uk/event/asbestos-awareness-4/
CATEGORIES:Asbestos Awareness
END:VEVENT
BEGIN:VEVENT
DTSTART;TZID=Europe/London:20230209T090000
DTEND;TZID=Europe/London:20230209T160000
DTSTAMP:20260421T032647
CREATED:20221212T130717Z
LAST-MODIFIED:20221212T130717Z
UID:3395-1675933200-1675958400@brownshfs.co.uk
SUMMARY:SPA Core Construction
DESCRIPTION:
URL:https://brownshfs.co.uk/event/spa-core-construction/
CATEGORIES:SPA Core Construction
END:VEVENT
BEGIN:VEVENT
DTSTART;TZID=Europe/London:20230208T093000
DTEND;TZID=Europe/London:20230208T123000
DTSTAMP:20260421T032647
CREATED:20221219T131455Z
LAST-MODIFIED:20230104T110628Z
UID:3720-1675848600-1675859400@brownshfs.co.uk
SUMMARY:Introduction to Health & Safety
DESCRIPTION:
URL:https://brownshfs.co.uk/event/introduction-to-health-safety/
CATEGORIES:General Health & Safety
END:VEVENT
BEGIN:VEVENT
DTSTART;TZID=Europe/London:20230207T093000
DTEND;TZID=Europe/London:20230207T123000
DTSTAMP:20260421T032647
CREATED:20221031T111859Z
LAST-MODIFIED:20221031T111859Z
UID:3110-1675762200-1675773000@brownshfs.co.uk
SUMMARY:Manual Handling
DESCRIPTION:
URL:https://brownshfs.co.uk/event/manual-handling-7/
CATEGORIES:Manual Handling
END:VEVENT
BEGIN:VEVENT
DTSTART;TZID=Europe/London:20230130T090000
DTEND;TZID=Europe/London:20230130T160000
DTSTAMP:20260421T032647
CREATED:20221031T114558Z
LAST-MODIFIED:20221031T114558Z
UID:3146-1675069200-1675094400@brownshfs.co.uk
SUMMARY:Emergency First Aid at Work (1 day)
DESCRIPTION:
URL:https://brownshfs.co.uk/event/emergency-first-aid-at-work-1-day-2/
CATEGORIES:EFAW,Emergency First Aid at Work (1 day course)
END:VEVENT
BEGIN:VEVENT
DTSTART;TZID=Europe/London:20230125T090000
DTEND;TZID=Europe/London:20230126T163000
DTSTAMP:20260421T032647
CREATED:20221011T123614Z
LAST-MODIFIED:20221011T123614Z
UID:3082-1674637200-1674750600@brownshfs.co.uk
SUMMARY:SPA MPQC Core & Quarry
DESCRIPTION:
URL:https://brownshfs.co.uk/event/spa-mpqc-core-quarry-17/
CATEGORIES:SPA MPQC Core & Quarry
END:VEVENT
BEGIN:VEVENT
DTSTART;TZID=Europe/London:20230124T093000
DTEND;TZID=Europe/London:20230124T123000
DTSTAMP:20260421T032647
CREATED:20221031T113151Z
LAST-MODIFIED:20221031T113424Z
UID:3124-1674552600-1674563400@brownshfs.co.uk
SUMMARY:Fire Marshal
DESCRIPTION:
URL:https://brownshfs.co.uk/event/fire-marshal-11/
CATEGORIES:Fire Marshal
END:VEVENT
BEGIN:VEVENT
DTSTART;TZID=Europe/London:20230110T090000
DTEND;TZID=Europe/London:20230110T163000
DTSTAMP:20260421T032647
CREATED:20221011T121037Z
LAST-MODIFIED:20221011T121037Z
UID:3043-1673341200-1673368200@brownshfs.co.uk
SUMMARY:SPA MPQC Core & Quarry Renewal
DESCRIPTION:
URL:https://brownshfs.co.uk/event/spa-mpqc-core-quarry-renewal-19/
CATEGORIES:SPA MPQC Core & Quarry Renewal
END:VEVENT
BEGIN:VEVENT
DTSTART;TZID=Europe/London:20221213T090000
DTEND;TZID=Europe/London:20221214T163000
DTSTAMP:20260421T032647
CREATED:20211123T090430Z
LAST-MODIFIED:20211123T090430Z
UID:2748-1670922000-1671035400@brownshfs.co.uk
SUMMARY:SPA MPQC Core & Quarry
DESCRIPTION:
URL:https://brownshfs.co.uk/event/spa-mpqc-core-quarry-21/
CATEGORIES:SPA MPQC Core & Quarry
END:VEVENT
BEGIN:VEVENT
DTSTART;TZID=Europe/London:20221212T090000
DTEND;TZID=Europe/London:20221212T160000
DTSTAMP:20260421T032647
CREATED:20211116T090322Z
LAST-MODIFIED:20211116T090322Z
UID:2727-1670835600-1670860800@brownshfs.co.uk
SUMMARY:Emergency First Aid at Work (1 day course)
DESCRIPTION:
URL:https://brownshfs.co.uk/event/emergency-first-aid-at-work-1-day-course-12/
CATEGORIES:EFAW,Emergency First Aid at Work (1 day course)
END:VEVENT
BEGIN:VEVENT
DTSTART;TZID=Europe/London:20221208T093000
DTEND;TZID=Europe/London:20221208T123000
DTSTAMP:20260421T032647
CREATED:20221031T111328Z
LAST-MODIFIED:20221031T111538Z
UID:3111-1670491800-1670502600@brownshfs.co.uk
SUMMARY:Manual Handling
DESCRIPTION:
URL:https://brownshfs.co.uk/event/manual-handling-5/
CATEGORIES:Manual Handling
END:VEVENT
BEGIN:VEVENT
DTSTART;TZID=Europe/London:20221207T084500
DTEND;TZID=Europe/London:20221207T164500
DTSTAMP:20260421T032647
CREATED:20211217T105739Z
LAST-MODIFIED:20211217T105739Z
UID:2836-1670402700-1670431500@brownshfs.co.uk
SUMMARY:IOSH December 2022
DESCRIPTION:
URL:https://brownshfs.co.uk/event/iosh-march-2022-2022-12-07/
CATEGORIES:IOSH Managing Safely
END:VEVENT
BEGIN:VEVENT
DTSTART;TZID=Europe/London:20221206T084500
DTEND;TZID=Europe/London:20221206T164500
DTSTAMP:20260421T032647
CREATED:20211217T105739Z
LAST-MODIFIED:20211217T105739Z
UID:2835-1670316300-1670345100@brownshfs.co.uk
SUMMARY:IOSH December 2022
DESCRIPTION:
URL:https://brownshfs.co.uk/event/iosh-march-2022-2022-12-06/
CATEGORIES:IOSH Managing Safely
END:VEVENT
BEGIN:VEVENT
DTSTART;TZID=Europe/London:20221205T084500
DTEND;TZID=Europe/London:20221205T164500
DTSTAMP:20260421T032647
CREATED:20211217T105739Z
LAST-MODIFIED:20220209T160026Z
UID:2797-1670229900-1670258700@brownshfs.co.uk
SUMMARY:IOSH December 2022
DESCRIPTION:
URL:https://brownshfs.co.uk/event/iosh-march-2022/
CATEGORIES:IOSH Managing Safely
END:VEVENT
BEGIN:VEVENT
DTSTART;TZID=Europe/London:20221201T093000
DTEND;TZID=Europe/London:20221201T123000
DTSTAMP:20260421T032647
CREATED:20221013T115704Z
LAST-MODIFIED:20221013T115704Z
UID:3104-1669887000-1669897800@brownshfs.co.uk
SUMMARY:Fire Marshal
DESCRIPTION:
URL:https://brownshfs.co.uk/event/fire-marshal-10/
CATEGORIES:Fire Marshal
END:VEVENT
END:VCALENDAR