
BEGIN:VCALENDAR
VERSION:2.0
PRODID:-//Browns - ECPv6.15.20//NONSGML v1.0//EN
CALSCALE:GREGORIAN
METHOD:PUBLISH
X-WR-CALNAME:Browns
X-ORIGINAL-URL:https://brownshfs.co.uk
X-WR-CALDESC:Events for Browns
REFRESH-INTERVAL;VALUE=DURATION:PT1H
X-Robots-Tag:noindex
X-PUBLISHED-TTL:PT1H
BEGIN:VTIMEZONE
TZID:Europe/London
BEGIN:DAYLIGHT
TZOFFSETFROM:+0000
TZOFFSETTO:+0100
TZNAME:BST
DTSTART:20210328T010000
END:DAYLIGHT
BEGIN:STANDARD
TZOFFSETFROM:+0100
TZOFFSETTO:+0000
TZNAME:GMT
DTSTART:20211031T010000
END:STANDARD
BEGIN:DAYLIGHT
TZOFFSETFROM:+0000
TZOFFSETTO:+0100
TZNAME:BST
DTSTART:20220327T010000
END:DAYLIGHT
BEGIN:STANDARD
TZOFFSETFROM:+0100
TZOFFSETTO:+0000
TZNAME:GMT
DTSTART:20221030T010000
END:STANDARD
BEGIN:DAYLIGHT
TZOFFSETFROM:+0000
TZOFFSETTO:+0100
TZNAME:BST
DTSTART:20230326T010000
END:DAYLIGHT
BEGIN:STANDARD
TZOFFSETFROM:+0100
TZOFFSETTO:+0000
TZNAME:GMT
DTSTART:20231029T010000
END:STANDARD
END:VTIMEZONE
BEGIN:VEVENT
DTSTART;TZID=Europe/London:20221026T090000
DTEND;TZID=Europe/London:20221028T160000
DTSTAMP:20260422T032840
CREATED:20211115T162805Z
LAST-MODIFIED:20211115T162805Z
UID:2707-1666774800-1666972800@brownshfs.co.uk
SUMMARY:First aid at work (3 day course)
DESCRIPTION:
URL:https://brownshfs.co.uk/event/first-aid-at-work-3-day-course-8/
CATEGORIES:First aid at work (3 day course)
END:VEVENT
BEGIN:VEVENT
DTSTART;TZID=Europe/London:20221018T090000
DTEND;TZID=Europe/London:20221018T163000
DTSTAMP:20260422T032840
CREATED:20211016T203800Z
LAST-MODIFIED:20211016T203800Z
UID:2645-1666083600-1666110600@brownshfs.co.uk
SUMMARY:SPA MPQC Core & Quarry Renewal
DESCRIPTION:
URL:https://brownshfs.co.uk/event/spa-mpqc-core-quarry-renewal-20/
CATEGORIES:SPA MPQC Core & Quarry Renewal
END:VEVENT
BEGIN:VEVENT
DTSTART;TZID=Europe/London:20221013T090000
DTEND;TZID=Europe/London:20221014T163000
DTSTAMP:20260422T032840
CREATED:20211123T090232Z
LAST-MODIFIED:20220811T095626Z
UID:2746-1665651600-1665765000@brownshfs.co.uk
SUMMARY:SPA MPQC Core & Quarry
DESCRIPTION:
URL:https://brownshfs.co.uk/event/spa-mpqc-core-quarry-19/
CATEGORIES:SPA MPQC Core & Quarry
END:VEVENT
BEGIN:VEVENT
DTSTART;TZID=Europe/London:20221010T090000
DTEND;TZID=Europe/London:20221010T160000
DTSTAMP:20260422T032840
CREATED:20211116T090135Z
LAST-MODIFIED:20211116T090135Z
UID:2723-1665392400-1665417600@brownshfs.co.uk
SUMMARY:Emergency First Aid at Work (1 day course)
DESCRIPTION:
URL:https://brownshfs.co.uk/event/emergency-first-aid-at-work-1-day-course-10/
CATEGORIES:EFAW,Emergency First Aid at Work (1 day course)
END:VEVENT
BEGIN:VEVENT
DTSTART;TZID=Europe/London:20221004T093000
DTEND;TZID=Europe/London:20221004T123000
DTSTAMP:20260422T032840
CREATED:20220412T083954Z
LAST-MODIFIED:20220412T083954Z
UID:2943-1664875800-1664886600@brownshfs.co.uk
SUMMARY:Fire Marshal
DESCRIPTION:
URL:https://brownshfs.co.uk/event/fire-marshal-8/
CATEGORIES:Fire Marshal
END:VEVENT
BEGIN:VEVENT
DTSTART;TZID=Europe/London:20220929T090000
DTEND;TZID=Europe/London:20220929T160000
DTSTAMP:20260422T032840
CREATED:20220811T103504Z
LAST-MODIFIED:20220811T103504Z
UID:3018-1664442000-1664467200@brownshfs.co.uk
SUMMARY:SPA Core Construction - September
DESCRIPTION:
URL:https://brownshfs.co.uk/event/spa-core-construction-september/
CATEGORIES:SPA Core Construction
END:VEVENT
BEGIN:VEVENT
DTSTART;TZID=Europe/London:20220927T093000
DTEND;TZID=Europe/London:20220927T123000
DTSTAMP:20260422T032840
CREATED:20220412T083916Z
LAST-MODIFIED:20220412T083916Z
UID:2944-1664271000-1664281800@brownshfs.co.uk
SUMMARY:Fire Marshal
DESCRIPTION:
URL:https://brownshfs.co.uk/event/fire-marshal-7/
CATEGORIES:Fire Marshal
END:VEVENT
BEGIN:VEVENT
DTSTART;TZID=Europe/London:20220919T084500
DTEND;TZID=Europe/London:20220920T164500
DTSTAMP:20260422T032840
CREATED:20211124T155625Z
LAST-MODIFIED:20211124T155625Z
UID:2756-1663577100-1663692300@brownshfs.co.uk
SUMMARY:MHFA England Mental Health First Aid
DESCRIPTION:
URL:https://brownshfs.co.uk/event/mhfa-england-mental-health-first-aid-8/
CATEGORIES:MHFA
END:VEVENT
BEGIN:VEVENT
DTSTART;TZID=Europe/London:20220914T090000
DTEND;TZID=Europe/London:20220915T163000
DTSTAMP:20260422T032840
CREATED:20211123T090152Z
LAST-MODIFIED:20211123T090152Z
UID:2745-1663146000-1663259400@brownshfs.co.uk
SUMMARY:SPA MPQC Core & Quarry
DESCRIPTION:
URL:https://brownshfs.co.uk/event/spa-mpqc-core-quarry-18/
CATEGORIES:SPA MPQC Core & Quarry
END:VEVENT
BEGIN:VEVENT
DTSTART;TZID=Europe/London:20220909T090000
DTEND;TZID=Europe/London:20220909T160000
DTSTAMP:20260422T032840
CREATED:20211116T085752Z
LAST-MODIFIED:20211116T085752Z
UID:2721-1662714000-1662739200@brownshfs.co.uk
SUMMARY:Emergency First Aid at Work (1 day course)
DESCRIPTION:
URL:https://brownshfs.co.uk/event/emergency-first-aid-at-work-1-day-course-9/
CATEGORIES:EFAW,Emergency First Aid at Work (1 day course)
END:VEVENT
BEGIN:VEVENT
DTSTART;TZID=Europe/London:20220905T090000
DTEND;TZID=Europe/London:20220906T160000
DTSTAMP:20260422T032840
CREATED:20211115T162156Z
LAST-MODIFIED:20211115T162156Z
UID:2698-1662368400-1662480000@brownshfs.co.uk
SUMMARY:First Aid at Work Renewal
DESCRIPTION:
URL:https://brownshfs.co.uk/event/first-aid-at-work-renewal-3/
CATEGORIES:First Aid at Work Renewal
END:VEVENT
BEGIN:VEVENT
DTSTART;TZID=Europe/London:20220822T090000
DTEND;TZID=Europe/London:20220824T160000
DTSTAMP:20260422T032840
CREATED:20211115T162658Z
LAST-MODIFIED:20211115T162658Z
UID:2705-1661158800-1661356800@brownshfs.co.uk
SUMMARY:First aid at work (3 day course)
DESCRIPTION:
URL:https://brownshfs.co.uk/event/first-aid-at-work-3-day-course-7/
CATEGORIES:First aid at work (3 day course)
END:VEVENT
BEGIN:VEVENT
DTSTART;TZID=Europe/London:20220808T090000
DTEND;TZID=Europe/London:20220808T160000
DTSTAMP:20260422T032840
CREATED:20211116T085654Z
LAST-MODIFIED:20211116T085654Z
UID:2718-1659949200-1659974400@brownshfs.co.uk
SUMMARY:Emergency First Aid at Work (1 day course)
DESCRIPTION:
URL:https://brownshfs.co.uk/event/emergency-first-aid-at-work-1-day-course-8/
CATEGORIES:EFAW,Emergency First Aid at Work (1 day course)
END:VEVENT
BEGIN:VEVENT
DTSTART;TZID=Europe/London:20220802T090000
DTEND;TZID=Europe/London:20220802T163000
DTSTAMP:20260422T032840
CREATED:20211016T203621Z
LAST-MODIFIED:20211016T203621Z
UID:2641-1659430800-1659457800@brownshfs.co.uk
SUMMARY:SPA MPQC Core & Quarry Renewal
DESCRIPTION:
URL:https://brownshfs.co.uk/event/spa-mpqc-core-quarry-renewal-18/
CATEGORIES:SPA MPQC Core & Quarry Renewal
END:VEVENT
BEGIN:VEVENT
DTSTART;TZID=Europe/London:20220726T133000
DTEND;TZID=Europe/London:20220726T163000
DTSTAMP:20260422T032840
CREATED:20220712T082736Z
LAST-MODIFIED:20220712T082736Z
UID:3012-1658842200-1658853000@brownshfs.co.uk
SUMMARY:Manual Handling
DESCRIPTION:
URL:https://brownshfs.co.uk/event/manual-handling-4/
CATEGORIES:Manual Handling
END:VEVENT
BEGIN:VEVENT
DTSTART;TZID=Europe/London:20220720T090000
DTEND;TZID=Europe/London:20220721T163000
DTSTAMP:20260422T032840
CREATED:20211122T162629Z
LAST-MODIFIED:20211122T162629Z
UID:2739-1658307600-1658421000@brownshfs.co.uk
SUMMARY:SPA MPQC Core & Quarry
DESCRIPTION:
URL:https://brownshfs.co.uk/event/spa-mpqc-core-quarry-16/
CATEGORIES:SPA MPQC Core & Quarry
END:VEVENT
BEGIN:VEVENT
DTSTART;TZID=Europe/London:20220713T090000
DTEND;TZID=Europe/London:20220713T160000
DTSTAMP:20260422T032840
CREATED:20220427T082305Z
LAST-MODIFIED:20221219T132129Z
UID:2969-1657702800-1657728000@brownshfs.co.uk
SUMMARY:Spa Core Day
DESCRIPTION:
URL:https://brownshfs.co.uk/event/spa-core-day-5/
CATEGORIES:SPA Core
END:VEVENT
BEGIN:VEVENT
DTSTART;TZID=Europe/London:20220712T090000
DTEND;TZID=Europe/London:20220712T163000
DTSTAMP:20260422T032840
CREATED:20211016T203533Z
LAST-MODIFIED:20211016T203533Z
UID:2639-1657616400-1657643400@brownshfs.co.uk
SUMMARY:SPA MPQC Core & Quarry Renewal
DESCRIPTION:
URL:https://brownshfs.co.uk/event/spa-mpqc-core-quarry-renewal-17/
CATEGORIES:SPA MPQC Core & Quarry Renewal
END:VEVENT
BEGIN:VEVENT
DTSTART;TZID=Europe/London:20220708T090000
DTEND;TZID=Europe/London:20220708T160000
DTSTAMP:20260422T032840
CREATED:20211116T085615Z
LAST-MODIFIED:20211116T085615Z
UID:2717-1657270800-1657296000@brownshfs.co.uk
SUMMARY:Emergency First Aid at Work (1 day course)
DESCRIPTION:
URL:https://brownshfs.co.uk/event/emergency-first-aid-at-work-1-day-course-7/
CATEGORIES:EFAW,Emergency First Aid at Work (1 day course)
END:VEVENT
BEGIN:VEVENT
DTSTART;TZID=Europe/London:20220613T093000
DTEND;TZID=Europe/London:20220613T133000
DTSTAMP:20260422T032840
CREATED:20220525T133240Z
LAST-MODIFIED:20220525T133240Z
UID:2975-1655112600-1655127000@brownshfs.co.uk
SUMMARY:Asbestos Awareness - June 13
DESCRIPTION:
URL:https://brownshfs.co.uk/event/asbestos-awareness-june-13/
CATEGORIES:Asbestos Awareness
END:VEVENT
BEGIN:VEVENT
DTSTART;TZID=Europe/London:20220608T090000
DTEND;TZID=Europe/London:20220608T160000
DTSTAMP:20260422T032840
CREATED:20220426T091934Z
LAST-MODIFIED:20220426T091934Z
UID:2967-1654678800-1654704000@brownshfs.co.uk
SUMMARY:SPA Core Construction - June
DESCRIPTION:
URL:https://brownshfs.co.uk/event/spa-core-construction-june/
CATEGORIES:SPA Core Construction
END:VEVENT
BEGIN:VEVENT
DTSTART;TZID=Europe/London:20220607T090000
DTEND;TZID=Europe/London:20220607T163000
DTSTAMP:20260422T032840
CREATED:20211016T203438Z
LAST-MODIFIED:20211016T203438Z
UID:2637-1654592400-1654619400@brownshfs.co.uk
SUMMARY:SPA MPQC Core & Quarry Renewal
DESCRIPTION:
URL:https://brownshfs.co.uk/event/spa-mpqc-core-quarry-renewal-16/
CATEGORIES:SPA MPQC Core & Quarry Renewal
END:VEVENT
BEGIN:VEVENT
DTSTART;TZID=Europe/London:20220606T090000
DTEND;TZID=Europe/London:20220606T160000
DTSTAMP:20260422T032840
CREATED:20211116T085409Z
LAST-MODIFIED:20211116T085409Z
UID:2713-1654506000-1654531200@brownshfs.co.uk
SUMMARY:Emergency First Aid at Work (1 day course)
DESCRIPTION:
URL:https://brownshfs.co.uk/event/emergency-first-aid-at-work-1-day-course-6/
CATEGORIES:EFAW,Emergency First Aid at Work (1 day course)
END:VEVENT
BEGIN:VEVENT
DTSTART;TZID=Europe/London:20220523T084500
DTEND;TZID=Europe/London:20220524T164500
DTSTAMP:20260422T032840
CREATED:20211124T155457Z
LAST-MODIFIED:20211124T155457Z
UID:2758-1653295500-1653410700@brownshfs.co.uk
SUMMARY:MHFA England Mental Health First Aid
DESCRIPTION:
URL:https://brownshfs.co.uk/event/mhfa-england-mental-health-first-aid-6/
CATEGORIES:MHFA
END:VEVENT
BEGIN:VEVENT
DTSTART;TZID=Europe/London:20220518T090000
DTEND;TZID=Europe/London:20220519T163000
DTSTAMP:20260422T032840
CREATED:20211122T162457Z
LAST-MODIFIED:20211123T090908Z
UID:2737-1652864400-1652977800@brownshfs.co.uk
SUMMARY:SPA MPQC Core & Quarry
DESCRIPTION:
URL:https://brownshfs.co.uk/event/spa-mpqc-core-quarry-14/
CATEGORIES:SPA MPQC Core & Quarry
END:VEVENT
BEGIN:VEVENT
DTSTART;TZID=Europe/London:20220517T133000
DTEND;TZID=Europe/London:20220517T163000
DTSTAMP:20260422T032840
CREATED:20220428T140317Z
LAST-MODIFIED:20220428T140317Z
UID:2971-1652794200-1652805000@brownshfs.co.uk
SUMMARY:Fire Marshal
DESCRIPTION:
URL:https://brownshfs.co.uk/event/fire-marshal-9/
CATEGORIES:Fire Marshal
END:VEVENT
BEGIN:VEVENT
DTSTART;TZID=Europe/London:20220512T090000
DTEND;TZID=Europe/London:20220513T160000
DTSTAMP:20260422T032840
CREATED:20211115T162110Z
LAST-MODIFIED:20211115T162110Z
UID:2697-1652346000-1652457600@brownshfs.co.uk
SUMMARY:First Aid at Work Renewal
DESCRIPTION:
URL:https://brownshfs.co.uk/event/first-aid-at-work-renewal-2/
CATEGORIES:First Aid at Work Renewal
END:VEVENT
BEGIN:VEVENT
DTSTART;TZID=Europe/London:20220511T093000
DTEND;TZID=Europe/London:20220511T123000
DTSTAMP:20260422T032840
CREATED:20220324T130502Z
LAST-MODIFIED:20220324T130502Z
UID:2926-1652261400-1652272200@brownshfs.co.uk
SUMMARY:Fire Marshal
DESCRIPTION:
URL:https://brownshfs.co.uk/event/fire-marshal-6/
CATEGORIES:Fire Marshal
END:VEVENT
BEGIN:VEVENT
DTSTART;TZID=Europe/London:20220506T090000
DTEND;TZID=Europe/London:20220506T160000
DTSTAMP:20260422T032840
CREATED:20211116T085057Z
LAST-MODIFIED:20211116T085330Z
UID:2711-1651827600-1651852800@brownshfs.co.uk
SUMMARY:Emergency First Aid at Work (1 day course)
DESCRIPTION:
URL:https://brownshfs.co.uk/event/emergency-first-aid-at-work-1-day-course-4/
CATEGORIES:EFAW,Emergency First Aid at Work (1 day course)
END:VEVENT
BEGIN:VEVENT
DTSTART;TZID=Europe/London:20220505T090000
DTEND;TZID=Europe/London:20220505T163000
DTSTAMP:20260422T032840
CREATED:20211016T203335Z
LAST-MODIFIED:20211016T203335Z
UID:2635-1651741200-1651768200@brownshfs.co.uk
SUMMARY:SPA MPQC Core & Quarry Renewal
DESCRIPTION:
URL:https://brownshfs.co.uk/event/spa-mpqc-core-quarry-renewal-15/
CATEGORIES:SPA MPQC Core & Quarry Renewal
END:VEVENT
END:VCALENDAR