
BEGIN:VCALENDAR
VERSION:2.0
PRODID:-//Browns - ECPv6.15.20//NONSGML v1.0//EN
CALSCALE:GREGORIAN
METHOD:PUBLISH
X-WR-CALNAME:Browns
X-ORIGINAL-URL:https://brownshfs.co.uk
X-WR-CALDESC:Events for Browns
REFRESH-INTERVAL;VALUE=DURATION:PT1H
X-Robots-Tag:noindex
X-PUBLISHED-TTL:PT1H
BEGIN:VTIMEZONE
TZID:Europe/London
BEGIN:DAYLIGHT
TZOFFSETFROM:+0000
TZOFFSETTO:+0100
TZNAME:BST
DTSTART:20250330T010000
END:DAYLIGHT
BEGIN:STANDARD
TZOFFSETFROM:+0100
TZOFFSETTO:+0000
TZNAME:GMT
DTSTART:20251026T010000
END:STANDARD
BEGIN:DAYLIGHT
TZOFFSETFROM:+0000
TZOFFSETTO:+0100
TZNAME:BST
DTSTART:20260329T010000
END:DAYLIGHT
BEGIN:STANDARD
TZOFFSETFROM:+0100
TZOFFSETTO:+0000
TZNAME:GMT
DTSTART:20261025T010000
END:STANDARD
BEGIN:DAYLIGHT
TZOFFSETFROM:+0000
TZOFFSETTO:+0100
TZNAME:BST
DTSTART:20270328T010000
END:DAYLIGHT
BEGIN:STANDARD
TZOFFSETFROM:+0100
TZOFFSETTO:+0000
TZNAME:GMT
DTSTART:20271031T010000
END:STANDARD
END:VTIMEZONE
BEGIN:VEVENT
DTSTART;TZID=Europe/London:20260106T090000
DTEND;TZID=Europe/London:20260106T160000
DTSTAMP:20260420T015900
CREATED:20251007T115131Z
LAST-MODIFIED:20251007T115131Z
UID:4308-1767690000-1767715200@brownshfs.co.uk
SUMMARY:Emergency First Aid at Work (1 day)
DESCRIPTION:
URL:https://brownshfs.co.uk/event/emergency-first-aid-at-work-1-day-37/
CATEGORIES:EFAW,Emergency First Aid at Work (1 day course)
END:VEVENT
BEGIN:VEVENT
DTSTART;TZID=Europe/London:20260121T090000
DTEND;TZID=Europe/London:20260122T153000
DTSTAMP:20260420T015900
CREATED:20251105T123005Z
LAST-MODIFIED:20251126T113913Z
UID:4319-1768986000-1769095800@brownshfs.co.uk
SUMMARY:SPA MPQC Core & Quarry
DESCRIPTION:
URL:https://brownshfs.co.uk/event/spa-mpqc-core-quarry-57/
CATEGORIES:SPA MPQC Core & Quarry
END:VEVENT
BEGIN:VEVENT
DTSTART;TZID=Europe/London:20260122T090000
DTEND;TZID=Europe/London:20260122T153000
DTSTAMP:20260420T015900
CREATED:20251105T123139Z
LAST-MODIFIED:20251126T113801Z
UID:4321-1769072400-1769095800@brownshfs.co.uk
SUMMARY:SPA MPQC Core & Quarry Renewal
DESCRIPTION:
URL:https://brownshfs.co.uk/event/spa-mpqc-core-quarry-renewal-65/
CATEGORIES:SPA MPQC Core & Quarry Renewal
END:VEVENT
BEGIN:VEVENT
DTSTART;TZID=Europe/London:20260203T093000
DTEND;TZID=Europe/London:20260203T130000
DTSTAMP:20260420T015900
CREATED:20251208T111736Z
LAST-MODIFIED:20260114T102345Z
UID:4332-1770111000-1770123600@brownshfs.co.uk
SUMMARY:Fire Marshal
DESCRIPTION:
URL:https://brownshfs.co.uk/event/fire-marshal-30/
CATEGORIES:Fire Marshal
END:VEVENT
BEGIN:VEVENT
DTSTART;TZID=Europe/London:20260218T090000
DTEND;TZID=Europe/London:20260219T153000
DTSTAMP:20260420T015900
CREATED:20251126T111443Z
LAST-MODIFIED:20251126T112054Z
UID:4328-1771405200-1771515000@brownshfs.co.uk
SUMMARY:SPA MPQC Core & Quarry
DESCRIPTION:
URL:https://brownshfs.co.uk/event/spa-mpqc-core-quarry-58/
CATEGORIES:SPA MPQC Core & Quarry
END:VEVENT
BEGIN:VEVENT
DTSTART;TZID=Europe/London:20260219T090000
DTEND;TZID=Europe/London:20260219T153000
DTSTAMP:20260420T015900
CREATED:20251126T111134Z
LAST-MODIFIED:20251126T113610Z
UID:4324-1771491600-1771515000@brownshfs.co.uk
SUMMARY:SPA MPQC Core & Quarry Renewal
DESCRIPTION:
URL:https://brownshfs.co.uk/event/spa-mpqc-core-quarry-renewal-66/
CATEGORIES:SPA MPQC Core & Quarry Renewal
END:VEVENT
BEGIN:VEVENT
DTSTART;TZID=Europe/London:20260304T093000
DTEND;TZID=Europe/London:20260304T130000
DTSTAMP:20260420T015900
CREATED:20260126T112932Z
LAST-MODIFIED:20260126T112932Z
UID:4373-1772616600-1772629200@brownshfs.co.uk
SUMMARY:Fire Marshal
DESCRIPTION:
URL:https://brownshfs.co.uk/event/fire-marshal-31/
CATEGORIES:Fire Marshal
END:VEVENT
BEGIN:VEVENT
DTSTART;TZID=Europe/London:20260318T090000
DTEND;TZID=Europe/London:20260319T153000
DTSTAMP:20260420T015900
CREATED:20251126T111544Z
LAST-MODIFIED:20251126T111843Z
UID:4330-1773824400-1773934200@brownshfs.co.uk
SUMMARY:SPA MPQC Core & Quarry
DESCRIPTION:
URL:https://brownshfs.co.uk/event/spa-mpqc-core-quarry-59/
CATEGORIES:SPA MPQC Core & Quarry
END:VEVENT
BEGIN:VEVENT
DTSTART;TZID=Europe/London:20260319T090000
DTEND;TZID=Europe/London:20260319T153000
DTSTAMP:20260420T015900
CREATED:20251126T111318Z
LAST-MODIFIED:20251126T111742Z
UID:4326-1773910800-1773934200@brownshfs.co.uk
SUMMARY:SPA MPQC Core & Quarry Renewal
DESCRIPTION:
URL:https://brownshfs.co.uk/event/spa-mpqc-core-quarry-renewal-67/
CATEGORIES:SPA MPQC Core & Quarry Renewal
END:VEVENT
END:VCALENDAR