
BEGIN:VCALENDAR
VERSION:2.0
PRODID:-//Browns - ECPv6.15.20//NONSGML v1.0//EN
CALSCALE:GREGORIAN
METHOD:PUBLISH
X-WR-CALNAME:Browns
X-ORIGINAL-URL:https://brownshfs.co.uk
X-WR-CALDESC:Events for Browns
REFRESH-INTERVAL;VALUE=DURATION:PT1H
X-Robots-Tag:noindex
X-PUBLISHED-TTL:PT1H
BEGIN:VTIMEZONE
TZID:Europe/London
BEGIN:DAYLIGHT
TZOFFSETFROM:+0000
TZOFFSETTO:+0100
TZNAME:BST
DTSTART:20230326T010000
END:DAYLIGHT
BEGIN:STANDARD
TZOFFSETFROM:+0100
TZOFFSETTO:+0000
TZNAME:GMT
DTSTART:20231029T010000
END:STANDARD
BEGIN:DAYLIGHT
TZOFFSETFROM:+0000
TZOFFSETTO:+0100
TZNAME:BST
DTSTART:20240331T010000
END:DAYLIGHT
BEGIN:STANDARD
TZOFFSETFROM:+0100
TZOFFSETTO:+0000
TZNAME:GMT
DTSTART:20241027T010000
END:STANDARD
BEGIN:DAYLIGHT
TZOFFSETFROM:+0000
TZOFFSETTO:+0100
TZNAME:BST
DTSTART:20250330T010000
END:DAYLIGHT
BEGIN:STANDARD
TZOFFSETFROM:+0100
TZOFFSETTO:+0000
TZNAME:GMT
DTSTART:20251026T010000
END:STANDARD
END:VTIMEZONE
BEGIN:VEVENT
DTSTART;TZID=Europe/London:20241212T090000
DTEND;TZID=Europe/London:20241212T163000
DTSTAMP:20260420T230337
CREATED:20230927T115107Z
LAST-MODIFIED:20241107T150500Z
UID:3976-1733994000-1734021000@brownshfs.co.uk
SUMMARY:SPA MPQC Core & Quarry Renewal
DESCRIPTION:
URL:https://brownshfs.co.uk/event/spa-mpqc-core-quarry-renewal-52/
CATEGORIES:SPA MPQC Core & Quarry Renewal
END:VEVENT
BEGIN:VEVENT
DTSTART;TZID=Europe/London:20241211T090000
DTEND;TZID=Europe/London:20241212T163000
DTSTAMP:20260420T230337
CREATED:20241107T150549Z
LAST-MODIFIED:20241107T150549Z
UID:4123-1733907600-1734021000@brownshfs.co.uk
SUMMARY:SPA MPQC Core & Quarry
DESCRIPTION:
URL:https://brownshfs.co.uk/event/spa-mpqc-core-quarry-40/
CATEGORIES:SPA MPQC Core & Quarry
END:VEVENT
BEGIN:VEVENT
DTSTART;TZID=Europe/London:20241128T090000
DTEND;TZID=Europe/London:20241128T163000
DTSTAMP:20260420T230337
CREATED:20230927T115014Z
LAST-MODIFIED:20230927T115014Z
UID:3974-1732784400-1732811400@brownshfs.co.uk
SUMMARY:SPA MPQC Core & Quarry Renewal
DESCRIPTION:
URL:https://brownshfs.co.uk/event/spa-mpqc-core-quarry-renewal-51/
CATEGORIES:SPA MPQC Core & Quarry Renewal
END:VEVENT
BEGIN:VEVENT
DTSTART;TZID=Europe/London:20241126T093000
DTEND;TZID=Europe/London:20241126T130000
DTSTAMP:20260420T230337
CREATED:20240725T134920Z
LAST-MODIFIED:20240725T134920Z
UID:4110-1732613400-1732626000@brownshfs.co.uk
SUMMARY:Fire Marshal
DESCRIPTION:
URL:https://brownshfs.co.uk/event/fire-marshal-26/
CATEGORIES:Fire Marshal
END:VEVENT
BEGIN:VEVENT
DTSTART;TZID=Europe/London:20241125T090000
DTEND;TZID=Europe/London:20241125T160000
DTSTAMP:20260420T230337
CREATED:20230818T084258Z
LAST-MODIFIED:20240708T081602Z
UID:3914-1732525200-1732550400@brownshfs.co.uk
SUMMARY:Emergency First Aid at Work (1 day)
DESCRIPTION:
URL:https://brownshfs.co.uk/event/emergency-first-aid-at-work-1-day-41/
CATEGORIES:EFAW,Emergency First Aid at Work (1 day course)
END:VEVENT
BEGIN:VEVENT
DTSTART;TZID=Europe/London:20241119T090000
DTEND;TZID=Europe/London:20241120T163000
DTSTAMP:20260420T230337
CREATED:20230927T111958Z
LAST-MODIFIED:20230927T111958Z
UID:3950-1732006800-1732120200@brownshfs.co.uk
SUMMARY:SPA MPQC Core & Quarry
DESCRIPTION:
URL:https://brownshfs.co.uk/event/spa-mpqc-core-quarry-43/
CATEGORIES:SPA MPQC Core & Quarry
END:VEVENT
BEGIN:VEVENT
DTSTART;TZID=Europe/London:20241112T093000
DTEND;TZID=Europe/London:20241112T123000
DTSTAMP:20260420T230337
CREATED:20240725T134947Z
LAST-MODIFIED:20240725T134947Z
UID:4112-1731403800-1731414600@brownshfs.co.uk
SUMMARY:Manual Handling
DESCRIPTION:
URL:https://brownshfs.co.uk/event/manual-handling-21/
CATEGORIES:Manual Handling
END:VEVENT
BEGIN:VEVENT
DTSTART;TZID=Europe/London:20241111T090000
DTEND;TZID=Europe/London:20241111T160000
DTSTAMP:20260420T230337
CREATED:20230818T084220Z
LAST-MODIFIED:20230818T084220Z
UID:3912-1731315600-1731340800@brownshfs.co.uk
SUMMARY:Emergency First Aid at Work (1 day)
DESCRIPTION:
URL:https://brownshfs.co.uk/event/emergency-first-aid-at-work-1-day-40/
CATEGORIES:EFAW,Emergency First Aid at Work (1 day course)
END:VEVENT
BEGIN:VEVENT
DTSTART;TZID=Europe/London:20241105T090000
DTEND;TZID=Europe/London:20241105T163000
DTSTAMP:20260420T230337
CREATED:20230927T114854Z
LAST-MODIFIED:20230927T114854Z
UID:3972-1730797200-1730824200@brownshfs.co.uk
SUMMARY:SPA MPQC Core & Quarry Renewal
DESCRIPTION:
URL:https://brownshfs.co.uk/event/spa-mpqc-core-quarry-renewal-50/
CATEGORIES:SPA MPQC Core & Quarry Renewal
END:VEVENT
BEGIN:VEVENT
DTSTART;TZID=Europe/London:20241022T090000
DTEND;TZID=Europe/London:20241023T163000
DTSTAMP:20260420T230337
CREATED:20230927T111902Z
LAST-MODIFIED:20230927T111902Z
UID:3948-1729587600-1729701000@brownshfs.co.uk
SUMMARY:SPA MPQC Core & Quarry
DESCRIPTION:
URL:https://brownshfs.co.uk/event/spa-mpqc-core-quarry-42/
CATEGORIES:SPA MPQC Core & Quarry
END:VEVENT
BEGIN:VEVENT
DTSTART;TZID=Europe/London:20241015T093000
DTEND;TZID=Europe/London:20241015T130000
DTSTAMP:20260420T230337
CREATED:20240725T093814Z
LAST-MODIFIED:20240725T093814Z
UID:4108-1728984600-1728997200@brownshfs.co.uk
SUMMARY:Fire Marshal
DESCRIPTION:
URL:https://brownshfs.co.uk/event/fire-marshal-25/
CATEGORIES:Fire Marshal
END:VEVENT
BEGIN:VEVENT
DTSTART;TZID=Europe/London:20241010T090000
DTEND;TZID=Europe/London:20241010T163000
DTSTAMP:20260420T230337
CREATED:20230927T114738Z
LAST-MODIFIED:20230927T114738Z
UID:3970-1728550800-1728577800@brownshfs.co.uk
SUMMARY:SPA MPQC Core & Quarry Renewal
DESCRIPTION:
URL:https://brownshfs.co.uk/event/spa-mpqc-core-quarry-renewal-49/
CATEGORIES:SPA MPQC Core & Quarry Renewal
END:VEVENT
BEGIN:VEVENT
DTSTART;TZID=Europe/London:20240917T090000
DTEND;TZID=Europe/London:20240918T163000
DTSTAMP:20260420T230337
CREATED:20230927T111528Z
LAST-MODIFIED:20230927T111528Z
UID:3946-1726563600-1726677000@brownshfs.co.uk
SUMMARY:SPA MPQC Core & Quarry
DESCRIPTION:
URL:https://brownshfs.co.uk/event/spa-mpqc-core-quarry-41/
CATEGORIES:SPA MPQC Core & Quarry
END:VEVENT
BEGIN:VEVENT
DTSTART;TZID=Europe/London:20240909T090000
DTEND;TZID=Europe/London:20240909T160000
DTSTAMP:20260420T230337
CREATED:20230818T083743Z
LAST-MODIFIED:20230818T083743Z
UID:3902-1725872400-1725897600@brownshfs.co.uk
SUMMARY:Emergency First Aid at Work (1 day)
DESCRIPTION:
URL:https://brownshfs.co.uk/event/emergency-first-aid-at-work-1-day-36/
CATEGORIES:EFAW,Emergency First Aid at Work (1 day course)
END:VEVENT
BEGIN:VEVENT
DTSTART;TZID=Europe/London:20240905T090000
DTEND;TZID=Europe/London:20240905T163000
DTSTAMP:20260420T230337
CREATED:20230927T114642Z
LAST-MODIFIED:20230927T114642Z
UID:3968-1725526800-1725553800@brownshfs.co.uk
SUMMARY:SPA MPQC Core & Quarry Renewal
DESCRIPTION:
URL:https://brownshfs.co.uk/event/spa-mpqc-core-quarry-renewal-48/
CATEGORIES:SPA MPQC Core & Quarry Renewal
END:VEVENT
BEGIN:VEVENT
DTSTART;TZID=Europe/London:20240903T093000
DTEND;TZID=Europe/London:20240903T123000
DTSTAMP:20260420T230337
CREATED:20240717T093548Z
LAST-MODIFIED:20240717T093548Z
UID:4101-1725355800-1725366600@brownshfs.co.uk
SUMMARY:Manual Handling
DESCRIPTION:
URL:https://brownshfs.co.uk/event/manual-handling-19/
CATEGORIES:Manual Handling
END:VEVENT
BEGIN:VEVENT
DTSTART;TZID=Europe/London:20240830T090000
DTEND;TZID=Europe/London:20240830T160000
DTSTAMP:20260420T230337
CREATED:20230818T083716Z
LAST-MODIFIED:20230818T083716Z
UID:3900-1725008400-1725033600@brownshfs.co.uk
SUMMARY:Emergency First Aid at Work (1 day)
DESCRIPTION:
URL:https://brownshfs.co.uk/event/emergency-first-aid-at-work-1-day-35/
CATEGORIES:EFAW,Emergency First Aid at Work (1 day course)
END:VEVENT
BEGIN:VEVENT
DTSTART;TZID=Europe/London:20240813T093000
DTEND;TZID=Europe/London:20240813T130000
DTSTAMP:20260420T230337
CREATED:20240507T140605Z
LAST-MODIFIED:20240507T140605Z
UID:4084-1723541400-1723554000@brownshfs.co.uk
SUMMARY:Fire Marshal
DESCRIPTION:
URL:https://brownshfs.co.uk/event/fire-marshal-24/
CATEGORIES:Fire Marshal
END:VEVENT
BEGIN:VEVENT
DTSTART;TZID=Europe/London:20240809T090000
DTEND;TZID=Europe/London:20240809T160000
DTSTAMP:20260420T230337
CREATED:20230818T083642Z
LAST-MODIFIED:20230818T083642Z
UID:3898-1723194000-1723219200@brownshfs.co.uk
SUMMARY:Emergency First Aid at Work (1 day)
DESCRIPTION:
URL:https://brownshfs.co.uk/event/emergency-first-aid-at-work-1-day-34/
CATEGORIES:EFAW,Emergency First Aid at Work (1 day course)
END:VEVENT
BEGIN:VEVENT
DTSTART;TZID=Europe/London:20240807T090000
DTEND;TZID=Europe/London:20240807T163000
DTSTAMP:20260420T230337
CREATED:20230927T114437Z
LAST-MODIFIED:20230927T114437Z
UID:3966-1723021200-1723048200@brownshfs.co.uk
SUMMARY:SPA MPQC Core & Quarry Renewal
DESCRIPTION:
URL:https://brownshfs.co.uk/event/spa-mpqc-core-quarry-renewal-47/
CATEGORIES:SPA MPQC Core & Quarry Renewal
END:VEVENT
BEGIN:VEVENT
DTSTART;TZID=Europe/London:20240806T093000
DTEND;TZID=Europe/London:20240806T123000
DTSTAMP:20260420T230337
CREATED:20240507T140439Z
LAST-MODIFIED:20240507T140439Z
UID:4080-1722936600-1722947400@brownshfs.co.uk
SUMMARY:Manual Handling
DESCRIPTION:
URL:https://brownshfs.co.uk/event/manual-handling-18/
CATEGORIES:Manual Handling
END:VEVENT
BEGIN:VEVENT
DTSTART;TZID=Europe/London:20240724T090000
DTEND;TZID=Europe/London:20240725T163000
DTSTAMP:20260420T230337
CREATED:20230927T111341Z
LAST-MODIFIED:20240531T150919Z
UID:3942-1721811600-1721925000@brownshfs.co.uk
SUMMARY:SPA MPQC Core & Quarry
DESCRIPTION:
URL:https://brownshfs.co.uk/event/spa-mpqc-core-quarry-39/
CATEGORIES:SPA MPQC Core & Quarry
END:VEVENT
BEGIN:VEVENT
DTSTART;TZID=Europe/London:20240709T093000
DTEND;TZID=Europe/London:20240709T123000
DTSTAMP:20260420T230337
CREATED:20240507T140340Z
LAST-MODIFIED:20240507T140340Z
UID:4078-1720517400-1720528200@brownshfs.co.uk
SUMMARY:Manual Handling
DESCRIPTION:
URL:https://brownshfs.co.uk/event/manual-handling-16/
CATEGORIES:Manual Handling
END:VEVENT
BEGIN:VEVENT
DTSTART;TZID=Europe/London:20240708T090000
DTEND;TZID=Europe/London:20240708T160000
DTSTAMP:20260420T230337
CREATED:20230818T083524Z
LAST-MODIFIED:20230818T083524Z
UID:3894-1720429200-1720454400@brownshfs.co.uk
SUMMARY:Emergency First Aid at Work (1 day)
DESCRIPTION:
URL:https://brownshfs.co.uk/event/emergency-first-aid-at-work-1-day-32/
CATEGORIES:EFAW,Emergency First Aid at Work (1 day course)
END:VEVENT
BEGIN:VEVENT
DTSTART;TZID=Europe/London:20240703T090000
DTEND;TZID=Europe/London:20240703T163000
DTSTAMP:20260420T230337
CREATED:20230927T114337Z
LAST-MODIFIED:20240530T132751Z
UID:3964-1719997200-1720024200@brownshfs.co.uk
SUMMARY:SPA MPQC Core & Quarry Renewal
DESCRIPTION:
URL:https://brownshfs.co.uk/event/spa-mpqc-core-quarry-renewal-46/
CATEGORIES:SPA MPQC Core & Quarry Renewal
END:VEVENT
BEGIN:VEVENT
DTSTART;TZID=Europe/London:20240624T090000
DTEND;TZID=Europe/London:20240624T160000
DTSTAMP:20260420T230337
CREATED:20230818T083451Z
LAST-MODIFIED:20230818T083451Z
UID:3892-1719219600-1719244800@brownshfs.co.uk
SUMMARY:Emergency First Aid at Work (1 day)
DESCRIPTION:
URL:https://brownshfs.co.uk/event/emergency-first-aid-at-work-1-day-31/
CATEGORIES:EFAW,Emergency First Aid at Work (1 day course)
END:VEVENT
BEGIN:VEVENT
DTSTART;TZID=Europe/London:20240620T090000
DTEND;TZID=Europe/London:20240620T163000
DTSTAMP:20260420T230337
CREATED:20240531T144612Z
LAST-MODIFIED:20240531T144612Z
UID:4087-1718874000-1718901000@brownshfs.co.uk
SUMMARY:SPA MPQC Core & Quarry Renewal
DESCRIPTION:
URL:https://brownshfs.co.uk/event/spa-mpqc-core-quarry-renewal-43/
CATEGORIES:SPA MPQC Core & Quarry Renewal
END:VEVENT
BEGIN:VEVENT
DTSTART;TZID=Europe/London:20240619T090000
DTEND;TZID=Europe/London:20240620T163000
DTSTAMP:20260420T230337
CREATED:20230927T111250Z
LAST-MODIFIED:20230927T111250Z
UID:3940-1718787600-1718901000@brownshfs.co.uk
SUMMARY:SPA MPQC Core & Quarry
DESCRIPTION:
URL:https://brownshfs.co.uk/event/spa-mpqc-core-quarry-38/
CATEGORIES:SPA MPQC Core & Quarry
END:VEVENT
BEGIN:VEVENT
DTSTART;TZID=Europe/London:20240618T093000
DTEND;TZID=Europe/London:20240618T130000
DTSTAMP:20260420T230337
CREATED:20240223T085444Z
LAST-MODIFIED:20240223T085444Z
UID:4045-1718703000-1718715600@brownshfs.co.uk
SUMMARY:Fire Marshal
DESCRIPTION:
URL:https://brownshfs.co.uk/event/fire-marshal-23/
CATEGORIES:Fire Marshal
END:VEVENT
BEGIN:VEVENT
DTSTART;TZID=Europe/London:20240611T093000
DTEND;TZID=Europe/London:20240611T123000
DTSTAMP:20260420T230337
CREATED:20240223T085742Z
LAST-MODIFIED:20240223T085742Z
UID:4049-1718098200-1718109000@brownshfs.co.uk
SUMMARY:Manual Handling
DESCRIPTION:
URL:https://brownshfs.co.uk/event/manual-handling-17/
CATEGORIES:Manual Handling
END:VEVENT
END:VCALENDAR