
BEGIN:VCALENDAR
VERSION:2.0
PRODID:-//Browns - ECPv6.15.20//NONSGML v1.0//EN
CALSCALE:GREGORIAN
METHOD:PUBLISH
X-WR-CALNAME:Browns
X-ORIGINAL-URL:https://brownshfs.co.uk
X-WR-CALDESC:Events for Browns
REFRESH-INTERVAL;VALUE=DURATION:PT1H
X-Robots-Tag:noindex
X-PUBLISHED-TTL:PT1H
BEGIN:VTIMEZONE
TZID:Europe/London
BEGIN:DAYLIGHT
TZOFFSETFROM:+0000
TZOFFSETTO:+0100
TZNAME:BST
DTSTART:20240331T010000
END:DAYLIGHT
BEGIN:STANDARD
TZOFFSETFROM:+0100
TZOFFSETTO:+0000
TZNAME:GMT
DTSTART:20241027T010000
END:STANDARD
BEGIN:DAYLIGHT
TZOFFSETFROM:+0000
TZOFFSETTO:+0100
TZNAME:BST
DTSTART:20250330T010000
END:DAYLIGHT
BEGIN:STANDARD
TZOFFSETFROM:+0100
TZOFFSETTO:+0000
TZNAME:GMT
DTSTART:20251026T010000
END:STANDARD
BEGIN:DAYLIGHT
TZOFFSETFROM:+0000
TZOFFSETTO:+0100
TZNAME:BST
DTSTART:20260329T010000
END:DAYLIGHT
BEGIN:STANDARD
TZOFFSETFROM:+0100
TZOFFSETTO:+0000
TZNAME:GMT
DTSTART:20261025T010000
END:STANDARD
END:VTIMEZONE
BEGIN:VEVENT
DTSTART;VALUE=DATE:20250219
DTEND;VALUE=DATE:20250220
DTSTAMP:20260420T144854
CREATED:20250209T232550Z
LAST-MODIFIED:20250209T232550Z
UID:4157-1739923200-1740009599@brownshfs.co.uk
SUMMARY:Spa Core Day
DESCRIPTION:
URL:https://brownshfs.co.uk/event/spa-core-day-7/
CATEGORIES:SPA Core
END:VEVENT
BEGIN:VEVENT
DTSTART;TZID=Europe/London:20250219T090000
DTEND;TZID=Europe/London:20250219T160000
DTSTAMP:20260420T144854
CREATED:20250209T230406Z
LAST-MODIFIED:20250209T230406Z
UID:4158-1739955600-1739980800@brownshfs.co.uk
SUMMARY:SPA Core Construction
DESCRIPTION:
URL:https://brownshfs.co.uk/event/spa-core-construction-4/
CATEGORIES:SPA Core Construction
END:VEVENT
END:VCALENDAR